BEGIN:VCALENDAR
VERSION:2.0
PRODID:-//Patriot Guard Riders - ECPv5.3.2.1//NONSGML v1.0//EN
CALSCALE:GREGORIAN
METHOD:PUBLISH
X-WR-CALNAME:Patriot Guard Riders
X-ORIGINAL-URL:https://www.patriotguard.org
X-WR-CALDESC:Events for Patriot Guard Riders
BEGIN:VTIMEZONE
TZID:America/New_York
BEGIN:DAYLIGHT
TZOFFSETFROM:-0500
TZOFFSETTO:-0400
TZNAME:EDT
DTSTART:20190310T070000
END:DAYLIGHT
BEGIN:STANDARD
TZOFFSETFROM:-0400
TZOFFSETTO:-0500
TZNAME:EST
DTSTART:20191103T060000
END:STANDARD
END:VTIMEZONE
BEGIN:VEVENT
DTSTART;VALUE=DATE:20190708
DTEND;VALUE=DATE:20190709
DTSTAMP:20210404T043836
CREATED:20190702T152535Z
LAST-MODIFIED:20190702T183849Z
UID:166472-1562544000-1562630399@www.patriotguard.org
SUMMARY:James Dewayne Linn
DESCRIPTION:Honor Mission\nJames Dewayne Linn\, Veteran\nUSN\, USNR – WWII\nBushnell\, Florida – 07-08-19\n\n\n\nABOUT THE MISSION: \nThe family of F1C Linn\, 92\, has graciously requested that the Patriot Guard Riders be present as they show their final respects and lay their loved one to rest. F1C Linn faithfully served his Country in the U.S. Navy and performed duties as a Fireman. During his time in service\, he was awarded the American Theater Ribbon and the Victory Medal. Upon completion of his service\, he received an Honorable Discharge.\nPlease bring your 3 X 5 American Flags and stand in Honor and Respect for our Hero and his family.\n\n\nPRIMARY STAGING DETAILS: 07-08-19 \nStaging Time: 1:15 PM\n \nFlorida National Cemetery\n6502 SW 102nd Ave\nBushnell\, Florida 33513\n\n\nRide Captain: \nJack “Jacks Cat” Fair\npgrjack@yahoo.com\n727-857-4416\n\n\nSpecial Instructions: \nPlease hydrate.\n1:30 PM  – Brief\n2:00 PM – Service\nFlag Line as determined by the RC\n\nFlags & Water:\nFlags will not be provided.\nLarge Bike Flags will NOT be needed.\nWater WILL NOT be provided\, please bring your own.\n\n\n\nSubmitted By: Bernie Conner \nPosition: Florida Assistant State Captain \n\nNote: You do not have to own/ride a motorcycle or be a veteran to join\, and membership is Free. The only requirement is RESPECT! To subscribe to receive mission notices\, log into the National Site and click on the Members tab at the top. Select the Subscribe to PGR Missions option.\n Print This Page
URL:https://www.patriotguard.org/mission/james-dewayne-linn/
CATEGORIES:Honor Mission
END:VEVENT
END:VCALENDAR