BEGIN:VCALENDAR
VERSION:2.0
PRODID:-//Patriot Guard Riders - ECPv5.3.2.1//NONSGML v1.0//EN
CALSCALE:GREGORIAN
METHOD:PUBLISH
X-WR-CALNAME:Patriot Guard Riders
X-ORIGINAL-URL:https://www.patriotguard.org
X-WR-CALDESC:Events for Patriot Guard Riders
BEGIN:VTIMEZONE
TZID:America/New_York
BEGIN:DAYLIGHT
TZOFFSETFROM:-0500
TZOFFSETTO:-0400
TZNAME:EDT
DTSTART:20190310T070000
END:DAYLIGHT
BEGIN:STANDARD
TZOFFSETFROM:-0400
TZOFFSETTO:-0500
TZNAME:EST
DTSTART:20191103T060000
END:STANDARD
END:VTIMEZONE
BEGIN:VEVENT
DTSTART;VALUE=DATE:20190905
DTEND;VALUE=DATE:20190906
DTSTAMP:20210401T103843
CREATED:20190903T162010Z
LAST-MODIFIED:20190903T162010Z
UID:172647-1567641600-1567727999@www.patriotguard.org
SUMMARY:James David "JD" Collett
DESCRIPTION:Honor Mission\nJames David “JD” Collett\, Veteran\, PGR\nUSMC – Vietnam\nKaufman\, Texas – 09-05-19\n\n\n \n\nABOUT THE MISSION: \nJames Collett was a two tour\, Vietnam combat veteran who was wounded twice. He is a Retired Dallas Police Officer and was a Patriot Guard Rider.Patriot Guard Rider.\n\n\nPRIMARY STAGING DETAILS: 09-05-19 \nStaging Time: 10:30 am\n \nParker-Ashworth Funeral Home\n2217 South Washington Street\nKaufman\, Texas 75142\n\n\nRide Captain: \nRick Crabb\nrandjcrabb@juno.com\n(910) 330-9861\n\n\nSpecial Instructions: \nBriefing Time 10:40 am\nIn Position/KSU Time 10:50 am\nStarting Time 11:30 am\nAfter the Mission Brief\, the Riders will establish the Flag Line and await the arrival of JD’s family and friends. When directed\, the Riders will return the flags to the support vehicle. This ends part one of the Mission\n\nFlags & Water:\nFlags will be provided\nIf you have large bike flags\, please bring them.\nWater will be provided.\n\nSTAGING #2 DETAILS: 09-05-19 \nStaging Time: 1:15 pm\n \nDFW National Cemetery\n2000 Mountain Creek Pkwy\nDallas\, Texas 75211\n\n\nRide Captain: \nRick Crabb\nrandjcrabb@juno.com\n(910) 330-9861\n\n\nSpecial Instructions: \nBriefing Time 1:30pm\nIn Position/KSU Time 1:45pm\nStarting Time 2pm\nAfter the Mission Briefing four honor bikes will be identified and move to the Staging Lane to accompany the procession. The remainder of the Riders will proceed to the designated Committal Shelter\, establish the Flag Line and prepare to receive JD’s family and friends. When directed the Riders will return the flags to storage\, be debriefed and dismissed.\n\nFlags & Water:\nFlags will be provided\nIf you have large bike flags\, please bring them.\nWater will be provided.\n\n\n\nSubmitted By: Dan Mathys \nPosition: Texas Ride Captain \n\nNote: You do not have to own/ride a motorcycle or be a veteran to join\, and membership is Free. The only requirement is RESPECT! To subscribe to receive mission notices\, log into the National Site and click on the Members tab at the top. Select the Subscribe to PGR Missions option.\n Print This Page
URL:https://www.patriotguard.org/mission/james-david-jd-collett/
CATEGORIES:Honor Mission
END:VEVENT
END:VCALENDAR