BEGIN:VCALENDAR
VERSION:2.0
PRODID:-//Patriot Guard Riders - ECPv5.6.0//NONSGML v1.0//EN
CALSCALE:GREGORIAN
METHOD:PUBLISH
X-WR-CALNAME:Patriot Guard Riders
X-ORIGINAL-URL:https://www.patriotguard.org
X-WR-CALDESC:Events for Patriot Guard Riders
BEGIN:VTIMEZONE
TZID:America/New_York
BEGIN:DAYLIGHT
TZOFFSETFROM:-0500
TZOFFSETTO:-0400
TZNAME:EDT
DTSTART:20160313T070000
END:DAYLIGHT
BEGIN:STANDARD
TZOFFSETFROM:-0400
TZOFFSETTO:-0500
TZNAME:EST
DTSTART:20161106T060000
END:STANDARD
END:VTIMEZONE
BEGIN:VEVENT
DTSTART;TZID=America/New_York:20160629T090000
DTEND;TZID=America/New_York:20160629T110000
DTSTAMP:20210512T210627
CREATED:20160629T130000Z
LAST-MODIFIED:20191201T144714Z
UID:410939-1467190800-1467198000@www.patriotguard.org
SUMMARY:James D. Skinner\, 74
DESCRIPTION:The  Family of James D. Skinner\, US Army\, has invited the Patriot Guard Riders  to Stand in Honor of his service to our country. James served  in the US Army for a period of one year\, 11 months as a tank crewman  stationed in Alaska.   \nLocation:\nMartin Funeral Home\n1194 E. Mt. Morris Rd\nMt. Morris\, Mi.  48457\nMap: https://www.google.com/maps/@43.1192335\,-83.6895349\,17z\n\nSTAGE: 8:45 AM\nBRIEFING: 9:30 AM\nFlag Line following briefing until 11:30 time of service. \nPlease bring your 3’ x 5’ American Flag to Stand for James D. Skinner. \nPlease dress for the weather. \nRIDE CAPTAIN: “Patches”  810-348-0809
URL:https://www.patriotguard.org/mission/james-d-skinner-74/
CATEGORIES:Archive
END:VEVENT
END:VCALENDAR