BEGIN:VCALENDAR
VERSION:2.0
PRODID:-//Patriot Guard Riders - ECPv5.3.2.1//NONSGML v1.0//EN
CALSCALE:GREGORIAN
METHOD:PUBLISH
X-WR-CALNAME:Patriot Guard Riders
X-ORIGINAL-URL:https://www.patriotguard.org
X-WR-CALDESC:Events for Patriot Guard Riders
BEGIN:VTIMEZONE
TZID:America/New_York
BEGIN:DAYLIGHT
TZOFFSETFROM:-0500
TZOFFSETTO:-0400
TZNAME:EDT
DTSTART:20190310T070000
END:DAYLIGHT
BEGIN:STANDARD
TZOFFSETFROM:-0400
TZOFFSETTO:-0500
TZNAME:EST
DTSTART:20191103T060000
END:STANDARD
END:VTIMEZONE
BEGIN:VEVENT
DTSTART;VALUE=DATE:20190819
DTEND;VALUE=DATE:20190820
DTSTAMP:20210402T081957
CREATED:20190813T233630Z
LAST-MODIFIED:20190813T233630Z
UID:170767-1566172800-1566259199@www.patriotguard.org
SUMMARY:James Crowder Haycraft
DESCRIPTION:Honor Mission\nJames Crowder Haycraft\, Veteran\nUSAF – Vietnam\nHouston\, Texas – 08-19-19\n\n\n \n\nABOUT THE MISSION: \nJames C. Haycraft of Humble Tx\, passed away on July 21st leaving behind his wife Barbara\, 1 brother and two sisters. James served 21 years in the U.S. Air Force serving two (2) tours in Vietnam and was one of the last to come home from Vietnam. He served in various other countries. He was a long time member of VFW post 12075 and was a Rolling Thunder supporter and a great American patriot.\n\n\nPRIMARY STAGING DETAILS: 08-19-19 \nStaging Time: 9:30 am  \nHouston National Cemetery\n10410 Veterans Memorial Dr.\nHouston\, Texas 77038\nMap\n\n\nRide Captain: \nBobby Shafer\n(713) 540-0492\nbobshafer54@gmail.com\n\n\nSpecial Instructions: \nBriefing Time: 10:00 AM\nIn position time or KSU: 10:15 AM\nGate Time:10:30 AM\nFlag line at Houston National Cemetery.\nRequest Large Flag Bikes\, weather permitting\, to escort from welcome center to shelter.\n\nFlags & Water:\nFlags will be provided\nIf you have large bike flags\, please bring them.\nWater will be provided.\n\n\n\nSubmitted By: Steve Cox \nPosition: Texas Ride Captain \n\nNote: You do not have to own/ride a motorcycle or be a veteran to join\, and membership is Free. The only requirement is RESPECT! To subscribe to receive mission notices\, log into the National Site and click on the Members tab at the top. Select the Subscribe to PGR Missions option.\n Print This Page
URL:https://www.patriotguard.org/mission/james-crowder-haycraft/
CATEGORIES:Honor Mission
END:VEVENT
END:VCALENDAR