BEGIN:VCALENDAR
VERSION:2.0
PRODID:-//Patriot Guard Riders - ECPv5.6.0//NONSGML v1.0//EN
CALSCALE:GREGORIAN
METHOD:PUBLISH
X-WR-CALNAME:Patriot Guard Riders
X-ORIGINAL-URL:https://www.patriotguard.org
X-WR-CALDESC:Events for Patriot Guard Riders
BEGIN:VTIMEZONE
TZID:America/New_York
BEGIN:DAYLIGHT
TZOFFSETFROM:-0500
TZOFFSETTO:-0400
TZNAME:EDT
DTSTART:20160313T070000
END:DAYLIGHT
BEGIN:STANDARD
TZOFFSETFROM:-0400
TZOFFSETTO:-0500
TZNAME:EST
DTSTART:20161106T060000
END:STANDARD
END:VTIMEZONE
BEGIN:VEVENT
DTSTART;TZID=America/New_York:20160603T090000
DTEND;TZID=America/New_York:20160603T110000
DTSTAMP:20210513T134602
CREATED:20160603T130000Z
LAST-MODIFIED:20191201T145450Z
UID:411624-1464944400-1464951600@www.patriotguard.org
SUMMARY:James Collis Alexander\, 86\, USA
DESCRIPTION:James Collis “JC” Alexander\, 86\nUS Army Korean War Veteran\nFlorence\, MS\nFriday\, 3 June 2016\n\n\n\nThe family of Mr. James Collis “JC” Alexander has requested the PATRIOT GUARD RIDERS to honor and pay tribute to him for his service to our country.  Mr. Alexander honorably and proudly served in the US Army during the Korean War. \n\nPRIMARY STAGING:  Friday 3 June 2016 at 2:30 PM at CHANCELLOR FUNERAL HOME; 2576 US 49 S; Florence\, MS 39073 \nThe PGR will provide a silent US Flag line for visitation until the beginning of the funeral service at 5:00 PM. \nImmediately following the funeral service the PGR will provide a silent US Flag line for the graveside service at Memory Gardens Cemetery located at the funeral home. \nNOTE: There will be no escort with this Mission\, please join us as we STAND FOR ONE WHO STOOD FOR US ! \nRC: Roger Barrett\nASC\n601.826.5205
URL:https://www.patriotguard.org/mission/james-collis-alexander-86-usa/
CATEGORIES:Archive
END:VEVENT
END:VCALENDAR