BEGIN:VCALENDAR
VERSION:2.0
PRODID:-//Patriot Guard Riders - ECPv5.3.2.1//NONSGML v1.0//EN
CALSCALE:GREGORIAN
METHOD:PUBLISH
X-WR-CALNAME:Patriot Guard Riders
X-ORIGINAL-URL:https://www.patriotguard.org
X-WR-CALDESC:Events for Patriot Guard Riders
BEGIN:VTIMEZONE
TZID:America/New_York
BEGIN:DAYLIGHT
TZOFFSETFROM:-0500
TZOFFSETTO:-0400
TZNAME:EDT
DTSTART:20190310T070000
END:DAYLIGHT
BEGIN:STANDARD
TZOFFSETFROM:-0400
TZOFFSETTO:-0500
TZNAME:EST
DTSTART:20191103T060000
END:STANDARD
END:VTIMEZONE
BEGIN:VEVENT
DTSTART;VALUE=DATE:20190714
DTEND;VALUE=DATE:20190715
DTSTAMP:20210404T022553
CREATED:20190712T231721Z
LAST-MODIFIED:20190712T231958Z
UID:167506-1563062400-1563148799@www.patriotguard.org
SUMMARY:James Clifton Rieson
DESCRIPTION:Honor Mission\nJames Clifton Rieson\, Veteran\nUSA – WWII\nJonesboro\, Louisiana – 07-14-19\n\n\n\nABOUT THE MISSION: \nMr. James Rieson\, age 97 of Dodson\, passed away Wednesday\, July 10\, 2019 surrounded by his family.  He retired from Rock Island Railroad and was a long time member of Dodson Assembly of God.  He was a devoted family man and a veteran of the United States Army.  He proudly served his country during World War II receiving numerous medals including the American Theater Campaign Medal\, Asiatic Pacific Campaign Medal with two bronze stars\, Phillippine Liberation Ribbon with two bronze stars\, Good Conduct Medal\, and World War II Victory Medal.  Mr. Rieson was preceded in death by his wife\, Helen (Evans) Rieson.\n\n\nPRIMARY STAGING DETAILS: 07-14-19 \nStaging: 1:30 PM\n \nEdmonds Funeral Home Chapel\n228 Allen Ave\nJonesboro\, Louisiana 71251\n\n\nRide Captain: \nJames ‘Mouse’ Sanders\njamespsanders@aol.com\n\n\nSpecial Instructions: \nWe will stand a flag-line for a 2:00 PM service and following the service we will escort this Hero to Springhill Cemetery\, 2961 Walker Road Jonesboro\, LA 71251\n\n\nFlags & Water:\nFlags will be provided\nIf you have large bike flags\, please bring them.\nWater will be provided.\n\nSubmitted By: James Sanders \nPosition: Louisiana Ride Captain \n\nNote: You do not have to own/ride a motorcycle or be a veteran to join\, and membership is Free. The only requirement is RESPECT! To subscribe to receive mission notices\, log into the National Site and click on the Members tab at the top. Select the Subscribe to PGR Missions option.\n Print This Page
URL:https://www.patriotguard.org/mission/james-clifton-rieson/
CATEGORIES:Honor Mission
END:VEVENT
END:VCALENDAR