BEGIN:VCALENDAR
VERSION:2.0
PRODID:-//Patriot Guard Riders - ECPv5.6.0//NONSGML v1.0//EN
CALSCALE:GREGORIAN
METHOD:PUBLISH
X-WR-CALNAME:Patriot Guard Riders
X-ORIGINAL-URL:https://www.patriotguard.org
X-WR-CALDESC:Events for Patriot Guard Riders
BEGIN:VTIMEZONE
TZID:America/New_York
BEGIN:DAYLIGHT
TZOFFSETFROM:-0500
TZOFFSETTO:-0400
TZNAME:EDT
DTSTART:20210314T070000
END:DAYLIGHT
BEGIN:STANDARD
TZOFFSETFROM:-0400
TZOFFSETTO:-0500
TZNAME:EST
DTSTART:20211107T060000
END:STANDARD
END:VTIMEZONE
BEGIN:VEVENT
DTSTART;VALUE=DATE:20210512
DTEND;VALUE=DATE:20210514
DTSTAMP:20210513T211441
CREATED:20210511T223238Z
LAST-MODIFIED:20210511T223238Z
UID:577066-1620777600-1620950399@www.patriotguard.org
SUMMARY:James Cheatham
DESCRIPTION:Honor Mission\nJames Cheatham\, Veteran\nUSN\, LEO\, Fire – Vietnam\nLee’s Summit\, Missouri – 05-12\, 05-13-21\n\n\n\nABOUT THE MISSION: \nThe Patriot Guard will stand a flag line for Hero James Cheatham\, who was an active duty LEO and Navy Veteran. Hero Cheatham served his country proudly for 5 years in the US Navy during Vietnam. He served on the USS Ranger in addition to combat time on land. Upon returning from the Navy\, he served honorably with the Raytown Missouri Fire Department for over 10 years. In 1986 Hero Cheatham was accepted by the Department of Treasury United States Customs Service (later Department of Homeland Security) of which he faithfully and valiantly served with honors for over two decades before retiring. In 2019 Jim answered the call of service again returning to duty as a Detective for the Pleasant Valley Missouri Police Department\, of which he served until the day his watch ended.\n\n\nPRIMARY STAGING DETAILS: 05-12-21 \nStaging Time: 3:15 PM\n \nLangsford Funeral Home\n115 SW 3rd St\nLee’s Summit\, Missouri 64063\n\n\nRide Captain: \nJim Bailey\n816-797-9577\n\nFlag Support: Ed Humphries\n\n\nSpecial Instructions: \nStaging & briefing 3:15 PM\nVisitation 3:30 PM – 9:00 PM (however\, come and go as you please)\n\n\nFlags & Water:\nFlags will be provided\nLarge Bike Flags will NOT be needed.\nWater WILL NOT be provided\, please bring your own.\n\nSTAGING #2 DETAILS: 05-13-21 \nStaging Time: 2:15 PM\n \nMissouri State Veterans Cemeter\nHigginsville MO-13\nHigginsville\, Missouri 64037\n\n\nRide Captain: \nJim Bailey\n816-797-9577\n\n\nSpecial Instructions: \nMeet at Higginsville at 2:15 PM\nBriefing 2:30 PM\nMilitary Honors at Higginsville 3:00 PM\n\n\nFlags & Water:\nFlags will be provided\nLarge Bike Flags will NOT be needed.\nWater WILL NOT be provided\, please bring your own.\n\n\nSubmitted By: Jim Bailey \nPosition: Missouri Ride Captain \n\nNote: You do not have to own/ride a motorcycle or be a veteran to join\, and membership is Free. The only requirement is RESPECT! To subscribe to receive mission notices\, log into the National Site and click on the Members tab at the top. Select the Subscribe to PGR Missions option.\n Print This Page
URL:https://www.patriotguard.org/mission/james-cheatham/
CATEGORIES:Honor Mission
END:VEVENT
END:VCALENDAR