BEGIN:VCALENDAR
VERSION:2.0
PRODID:-//Patriot Guard Riders - ECPv5.6.0//NONSGML v1.0//EN
CALSCALE:GREGORIAN
METHOD:PUBLISH
X-WR-CALNAME:Patriot Guard Riders
X-ORIGINAL-URL:https://www.patriotguard.org
X-WR-CALDESC:Events for Patriot Guard Riders
BEGIN:VTIMEZONE
TZID:America/New_York
BEGIN:DAYLIGHT
TZOFFSETFROM:-0500
TZOFFSETTO:-0400
TZNAME:EDT
DTSTART:20160313T070000
END:DAYLIGHT
BEGIN:STANDARD
TZOFFSETFROM:-0400
TZOFFSETTO:-0500
TZNAME:EST
DTSTART:20161106T060000
END:STANDARD
END:VTIMEZONE
BEGIN:VEVENT
DTSTART;TZID=America/New_York:20160815T090000
DTEND;TZID=America/New_York:20160815T110000
DTSTAMP:20210512T023816
CREATED:20160815T130000Z
LAST-MODIFIED:20191201T143609Z
UID:409918-1471251600-1471258800@www.patriotguard.org
SUMMARY:James C. Huddleston\, Sr.\, 91\, USN\, WWII / Farmington
DESCRIPTION:The Family of U.S. Navy\, WW-II Veteran\, MM3 James C. Huddleston\, Sr. (91) has Requested the Patriot Guard for the Final Mission of Their Loved One.\n \nUnder the Direction of:\nTaylor Funeral Home\n111 East Liberty Street\nFarmington\, MO.  63640\n \nMONDAY\, AUGUST 15th.\,  2016.\n \nVisitation:  10:00 a.m. to 1:00 P.M.  (1000 hrs. to 1300 hrs.)\nService:  1:00 p.m.  (1300 hrs.)\n \nHonor Escort to the Woodlawn Cemetery (Leadington\, MO.) for Interment with Full Military Honors.\n \nRCIC:\nS. Roger “Goose” Dollinger \nsrdoll@charter.net\n \nFlags / Support:\nBill “Enforcer” Barker.\n \nStaging:  Taylor Funeral Home @ 10:00 a.m.  (1000 hrs.) to Establish a Flag Line.\n \nWeather Predictions:  80° / 80-100% Chance of Thunderstorms / Travel and Dress Accordingly / HYDRATE.
URL:https://www.patriotguard.org/mission/james-c-huddleston-sr-91-usn-wwii-farmington/
CATEGORIES:Archive
END:VEVENT
END:VCALENDAR