BEGIN:VCALENDAR
VERSION:2.0
PRODID:-//Patriot Guard Riders - ECPv5.3.2.1//NONSGML v1.0//EN
CALSCALE:GREGORIAN
METHOD:PUBLISH
X-WR-CALNAME:Patriot Guard Riders
X-ORIGINAL-URL:https://www.patriotguard.org
X-WR-CALDESC:Events for Patriot Guard Riders
BEGIN:VTIMEZONE
TZID:America/New_York
BEGIN:DAYLIGHT
TZOFFSETFROM:-0500
TZOFFSETTO:-0400
TZNAME:EDT
DTSTART:20190310T070000
END:DAYLIGHT
BEGIN:STANDARD
TZOFFSETFROM:-0400
TZOFFSETTO:-0500
TZNAME:EST
DTSTART:20191103T060000
END:STANDARD
END:VTIMEZONE
BEGIN:VEVENT
DTSTART;VALUE=DATE:20190808
DTEND;VALUE=DATE:20190809
DTSTAMP:20210402T083016
CREATED:20190807T215656Z
LAST-MODIFIED:20190807T215656Z
UID:170010-1565222400-1565308799@www.patriotguard.org
SUMMARY:James Bunch Jr.
DESCRIPTION:Honor Mission\nJames Bunch Jr.\, Veteran\nUSAF\nMehlville\, Missouri – 08-08-19\n\n\n\n\nABOUT THE MISSION: \nPatriot Guard Riders\, we have been requested to stand a flag line of honor for United States Air Force veteran James Bunch Jr.  Please join us in standing a flag line of honor and respect for this veteran\, just as he once stood for every one of us.\n\n\nPRIMARY STAGING DETAILS: 08-08-19 \nStaging Time:  9:30 am\n \nKutis South County Funeral Home\n5255 Lemay Ferry RD.\nMehlville\, Missouri 63129\n\n\nRide Captain: \nMike Albers\nhuck3517@yahoo.com\n\n\nSpecial Instructions: \nSTAGE-9:30 am with meeting to follow\nFLAGS-10:00 am\nSERVICE-11:30 am.  Escort to Jefferson Barracks for 12:30 pm slot.\nFLAG SUPPORT-Jim Kleszczwski\n\nFlags & Water:\nFlags will be provided\nIf you have large bike flags\, please bring them.\nWater will be provided.\n\n\n\n\nSubmitted By: Michael Albers \nPosition: Missouri Ride Captain \n\nNote: You do not have to own/ride a motorcycle or be a veteran to join\, and membership is Free. The only requirement is RESPECT! To subscribe to receive mission notices\, log into the National Site and click on the Members tab at the top. Select the Subscribe to PGR Missions option.\n Print This Page
URL:https://www.patriotguard.org/mission/james-bunch-jr/
CATEGORIES:Honor Mission
END:VEVENT
END:VCALENDAR