BEGIN:VCALENDAR
VERSION:2.0
PRODID:-//Patriot Guard Riders - ECPv5.3.2.1//NONSGML v1.0//EN
CALSCALE:GREGORIAN
METHOD:PUBLISH
X-WR-CALNAME:Patriot Guard Riders
X-ORIGINAL-URL:https://www.patriotguard.org
X-WR-CALDESC:Events for Patriot Guard Riders
BEGIN:VTIMEZONE
TZID:America/New_York
BEGIN:DAYLIGHT
TZOFFSETFROM:-0500
TZOFFSETTO:-0400
TZNAME:EDT
DTSTART:20190310T070000
END:DAYLIGHT
BEGIN:STANDARD
TZOFFSETFROM:-0400
TZOFFSETTO:-0500
TZNAME:EST
DTSTART:20191103T060000
END:STANDARD
END:VTIMEZONE
BEGIN:VEVENT
DTSTART;VALUE=DATE:20190919
DTEND;VALUE=DATE:20190920
DTSTAMP:20210401T104155
CREATED:20190918T005904Z
LAST-MODIFIED:20190924T162632Z
UID:174706-1568851200-1568937599@www.patriotguard.org
SUMMARY:James "Buck" Moody
DESCRIPTION:  \n\nHonor Mission\nJames “Buck” Moody\, Veteran\nUSN\nMULTI-CITY\, Florida  09-19-19\n\n\n\n\nABOUT THE MISSION: \nThe family of James “Buck” Moody has requested the Patriot Guard Riders’ presence as they show their final respects to their loved one. Buck Moody faithfully served his country in the U.S. Navy and served during the Vietnam Era. Please bring your 3 X 5 American flags and stand in honor and respect for our U.S. sailor and his family. This will be a 2 part mission. Flag bikes are needed. If you are uncomfortable riding in a group\, you can stage at the cemetery.\n\n\nPRIMARY STAGING DETAILS: 09-19-19 \nStaging Time: 9:00 AM  \nAycock-Riverside Funeral Home\n1112 Military Trail\nJupiter\, Florida 33458\n\n\nRide Captain: \nMike Brunson\ncell (973) 479-4322\n\n\nSpecial Instructions: \n9:15 am – Brief\n9:30 am – Flag-line\n10:30 am – Service\nTBD – KSU after church service\, escort to cemetery.\n\n\nFlags & Water:\nFlags will not be provided\nIf you have large bike flags\, please bring them.\nWater WILL NOT be provided\, please bring your own.\n\nSTAGING #2 DETAILS: 09-19-19 \nStaging Time: 11:00 AM  \nRiverside Memorial Park\n19351 SE County Line Rd.\nTequesta\, Florida 33469\n\n\nRide Captain: \nJim “Rabbi” King\ncell (561) 902-8869\n\n\nSpecial Instructions: \n11:10 am – Brief\nTBD – Arrival of escort\, Flag-line established\nTBD – Service\n\n\n\nFlags & Water:\nFlags will not be provided\nLarge Bike Flags will NOT be needed.\nWater WILL NOT be provided\, please bring your own.\n\n\n\nSubmitted By: Jeff Garten \nPosition: Florida Assistant State Captain \n\nNote: You do not have to own/ride a motorcycle or be a veteran to join\, and membership is Free. The only requirement is RESPECT! To subscribe to receive mission notices\, log into the National Site and click on the Members tab at the top. Select the Subscribe to PGR Missions option.\n Print This Page
URL:https://www.patriotguard.org/mission/james-buck-moody/
CATEGORIES:Honor Mission
END:VEVENT
END:VCALENDAR