BEGIN:VCALENDAR
VERSION:2.0
PRODID:-//Patriot Guard Riders - ECPv5.3.2.1//NONSGML v1.0//EN
CALSCALE:GREGORIAN
METHOD:PUBLISH
X-WR-CALNAME:Patriot Guard Riders
X-ORIGINAL-URL:https://www.patriotguard.org
X-WR-CALDESC:Events for Patriot Guard Riders
BEGIN:VTIMEZONE
TZID:America/New_York
BEGIN:DAYLIGHT
TZOFFSETFROM:-0500
TZOFFSETTO:-0400
TZNAME:EDT
DTSTART:20190310T070000
END:DAYLIGHT
BEGIN:STANDARD
TZOFFSETFROM:-0400
TZOFFSETTO:-0500
TZNAME:EST
DTSTART:20191103T060000
END:STANDARD
END:VTIMEZONE
BEGIN:VEVENT
DTSTART;VALUE=DATE:20190716
DTEND;VALUE=DATE:20190717
DTSTAMP:20210404T050254
CREATED:20190714T234026Z
LAST-MODIFIED:20190714T234603Z
UID:167687-1563235200-1563321599@www.patriotguard.org
SUMMARY:James Brant Faircloth
DESCRIPTION:Honor Mission\nJames Brant Faircloth\, Veteran\nUSA – Vietnam\nElgin\, Oklahoma – 07-16-19\n\n\n\nABOUT THE MISSION: \nThe family of U.S. Army Vietnam Veteran James Brant Faircloth\, has the Patriot Guard to stand in honor of their fallen Hero.\nSSG James Brant Faircloth began his military career in 1969 and completed his service in 1976. SSG Faircloth was a communication specialist. SSG Faircloth received the following medals and ribbons: National Defense Service Medal\, Vietnam Service Medal\, Vietnam Campaign Medal\, Good Conduct Medal and Marksman Badge.\n\n\nPRIMARY STAGING DETAILS: 07-16-19 \nStaging Time: 1300 hrs  \nFort Sill National Cemetery\n2648 N E Jake Dunn Rd.\nElgin\, Oklahoma 73538\n\n\nRide Captain: \nJerry “Shepard” Wilson\n1-580-467-4648\njerryw_46@yahoo.com\n\n\nSpecial Instructions: \nBriefing: 1315 hrs. must attend\nService will be Tuesday\, July 16\, 2019\, at 1400 hrs. at Fort Sill National Cemetery in Elgin\, OK.\nU.S. Army Honor Guard will render full military honors.\n\n\nFlags & Water:\nFlags will be provided\nIf you have large bike flags\, please bring them.\nWater will be provided.\n\n\n\nSubmitted By: Jerry Wilson \nPosition: Oklahoma Ride Captain \n\nNote: You do not have to own/ride a motorcycle or be a veteran to join\, and membership is Free. The only requirement is RESPECT! To subscribe to receive mission notices\, log into the National Site and click on the Members tab at the top. Select the Subscribe to PGR Missions option.\n Print This Page
URL:https://www.patriotguard.org/mission/james-brant-faircloth/
CATEGORIES:Honor Mission
END:VEVENT
END:VCALENDAR