BEGIN:VCALENDAR
VERSION:2.0
PRODID:-//Patriot Guard Riders - ECPv5.6.0//NONSGML v1.0//EN
CALSCALE:GREGORIAN
METHOD:PUBLISH
X-WR-CALNAME:Patriot Guard Riders
X-ORIGINAL-URL:https://www.patriotguard.org
X-WR-CALDESC:Events for Patriot Guard Riders
BEGIN:VTIMEZONE
TZID:America/New_York
BEGIN:DAYLIGHT
TZOFFSETFROM:-0500
TZOFFSETTO:-0400
TZNAME:EDT
DTSTART:20160313T070000
END:DAYLIGHT
BEGIN:STANDARD
TZOFFSETFROM:-0400
TZOFFSETTO:-0500
TZNAME:EST
DTSTART:20161106T060000
END:STANDARD
END:VTIMEZONE
BEGIN:VEVENT
DTSTART;TZID=America/New_York:20160805T090000
DTEND;TZID=America/New_York:20160805T110000
DTSTAMP:20210511T183915
CREATED:20160805T130000Z
LAST-MODIFIED:20191201T143835Z
UID:410142-1470387600-1470394800@www.patriotguard.org
SUMMARY:James Barrett\, USA
DESCRIPTION:Patriot’s Name: SGT James Barrett\nMilitary Branch: United States Army\nClassification: Veteran\nAdditional Military Info: Iraqi Freedom Veteran \nLink To Obituary:\nhttp://www.greenfh.com/home/index.cfm/obituaries/view/fh_id/13148/id/3828012%2520 \nMission Ride Captain:\nWendy “Hot Lips” Ingersoll\ncalifbabe55@yahoo.com\n(817) 991-9021 \nRide Captain #2:\nJeffrey Wike (In Training)\nasm757@att.net\n(817)-301-4293 \nMission Summary:\nThe family of Mr. James Barrett have asked the Patriot Guard Riders to honor his memory and service to our Country by standing a Flag Line at his funeral service\, ride with him one last time\, and stand again at his interment. \nPART 1:Flag Line at funeral service\, followed by procession to the Cemetery.\nMission Date: Aug 05\, 2016 – Friday\nStaging Time: 09:00\nBriefing Time: 09:15\nIn Position Time Or KSU: 09:30\nService Start Time: 10:00 \nDetails Of Part 1:\nAfter the Mission Briefing\, the Riders will establish the Flag Line and await the arrival of Mr. Barrett’s family and friends. Once the service begins\, the flags will be returned to the support vehicle and the Riders will prepare to ride in the procession to the cemetery. Riders not participating in the procession will proceed directly to the cemetery. \nName Of Staging Point:\nFirst Baptist Church of Dallas\n1707 San Jacinto Truett Building\nDallas\, Texas 75201 \nPART 2:Flag Line at interment service.\nMission Date: Aug 05\, 2016 – Friday\nStaging Time: 12:30\nBriefing Time: 12:45\nIn Position Time Or KSU: 13:00\nService Start Time: 13:15 \nDetails Of Part 2:\nAfter the Mission Brief\, four designated honor bikes will stage in Lane “B” and escort the procession to the committal shelter. The remainder of the Riders will proceed to Shelter “B\,” establish the Flag Line\, and prepare to receive the family and friends of Mr. Barrett. When directed\, the Riders will return the flags to storage\, be debriefed and dismissed. \nName Of Staging Point\nDallas Fort Worth Visitor’s Center\n2000 Mountain Creek Parkway\nDallas\, Texas 75211
URL:https://www.patriotguard.org/mission/james-barrett-usa/
CATEGORIES:Archive
END:VEVENT
END:VCALENDAR