BEGIN:VCALENDAR
VERSION:2.0
PRODID:-//Patriot Guard Riders - ECPv5.6.0//NONSGML v1.0//EN
CALSCALE:GREGORIAN
METHOD:PUBLISH
X-WR-CALNAME:Patriot Guard Riders
X-ORIGINAL-URL:https://www.patriotguard.org
X-WR-CALDESC:Events for Patriot Guard Riders
BEGIN:VTIMEZONE
TZID:America/New_York
BEGIN:DAYLIGHT
TZOFFSETFROM:-0500
TZOFFSETTO:-0400
TZNAME:EDT
DTSTART:20160313T070000
END:DAYLIGHT
BEGIN:STANDARD
TZOFFSETFROM:-0400
TZOFFSETTO:-0500
TZNAME:EST
DTSTART:20161106T060000
END:STANDARD
END:VTIMEZONE
BEGIN:VEVENT
DTSTART;TZID=America/New_York:20160812T090000
DTEND;TZID=America/New_York:20160812T110000
DTSTAMP:20210512T022548
CREATED:20160812T130000Z
LAST-MODIFIED:20191201T143656Z
UID:409989-1470992400-1470999600@www.patriotguard.org
SUMMARY:James Barber\, USAF Veteran
DESCRIPTION:SRA James Barber\nUS Air Force\nSerenity Memorial Gardens\nMobile\, AL\nFriday\, 12 Aug 2016\n\n\n\nFellow Riders\,\nIt is with heavy heart that I must inform you that America has lost another True American Hero… The family of SRA James Barber 26 yrs old has requested the Patriot Guard to stand in honor of their loved one. SRA Barber passed away on Friday 12 August 2016. \nSRA Barber served in the US Air Force for 4 years and then went into the National Guard\, he was awarded the National Defense Service Medal was Honorably Discharged. \nPlease bring water to stay hydrated especially in our extreme heat. \nVisitation:  N/A \nFuneral Service: 1500 hrs on Friday 12 August 2016 at Mobile Memorial Gardens \nInterment:  Will follow the Funeral Service at\nSerenity Memorial Gardens\n6100 Three Notch Rd.\nMobile\, AL \nSTAGING INFO:\nMobile & Baldwin County Staging:\nLocation: Wal-Mart at Rangeline and Halls Mills Rd. \nTime: 1300 hrs \nBriefing: 1315 hrs \nKSU: 1330 hrs \nRCIC:\nPhil Brown\, RC\n(251) 402-0720 \nFlags Supplied by: Lloyd Pursley\, DRC\n(251) 422-0696 \nHonor Guard: Yes \nEscort: Yes \nSRA Barber stood for us many a hard day and night so that we might be safe and free— Now it is our turn to stand for him.
URL:https://www.patriotguard.org/mission/james-barber-usaf-veteran/
CATEGORIES:Archive
END:VEVENT
END:VCALENDAR