BEGIN:VCALENDAR
VERSION:2.0
PRODID:-//Patriot Guard Riders - ECPv5.3.2.1//NONSGML v1.0//EN
CALSCALE:GREGORIAN
METHOD:PUBLISH
X-WR-CALNAME:Patriot Guard Riders
X-ORIGINAL-URL:https://www.patriotguard.org
X-WR-CALDESC:Events for Patriot Guard Riders
BEGIN:VTIMEZONE
TZID:America/New_York
BEGIN:DAYLIGHT
TZOFFSETFROM:-0500
TZOFFSETTO:-0400
TZNAME:EDT
DTSTART:20190310T070000
END:DAYLIGHT
BEGIN:STANDARD
TZOFFSETFROM:-0400
TZOFFSETTO:-0500
TZNAME:EST
DTSTART:20191103T060000
END:STANDARD
END:VTIMEZONE
BEGIN:VEVENT
DTSTART;VALUE=DATE:20190610
DTEND;VALUE=DATE:20190612
DTSTAMP:20210405T012701
CREATED:20190609T222146Z
LAST-MODIFIED:20190609T230700Z
UID:164167-1560124800-1560297599@www.patriotguard.org
SUMMARY:James B. Williams
DESCRIPTION:Honor Mission\nJames B. Williams\, Retired\, Veteran\nANG – Fire\nRossville\, Georgia – 06-10-19\n\n\n\n\nABOUT THE MISSION: \nThe family of Fire Captain (Ret.)\, James B. Williams\, Chattanooga Fire Dept; (60-85); of Chattanooga\, TN has invited the Patriot Guard Riders to Honor their loved one with a Silent flag line and escort to his final place of rest. It will be our Honor to do so. Mr. Williams\, served his country in the Army National Guard in the 181st Service Battery\, 20 years in the trucking industry\, and 25 years in the Chattanooga Fire Dept. Truly a devoted man. Mr. Williams stood for us and now it is our time to stand for him.\n\n\nPRIMARY STAGING DETAILS: 06-10-19 \nStaging Time: 2:30 pm \nLane Funeral Home\n833 Chickamagua Ave\nRossville\, Georgia 30741\n\n\nRide Captain: \nScott Hall\npickaxe365@gmail.com\n706-463-1247\n\n\nSpecial Instructions: \nVisitation Monday 3:00 -8:00 pm EDT\n\n\nFlags & Water:\nFlags will be provided\nLarge Bike Flags will NOT be needed.\nWater WILL NOT be provided\, please bring your own.\n\nSTAGING #2 DETAILS: 06-11-19 \nStaging Time: 10:30 am \nLane Funeral Home\n833 Chickamagua Ave.\nRossville\, Georgia 39741\n\n\nRide Captain: \nScott Hall\npickaxe365@gmail.com\nCell: 706-463-1247\n\n\nSpecial Instructions: \nVisitation/ Escort: 11:00 am – 12:00 pm EDT Funeral at 12:00 pm\, escort to follow funeral.\n\n\nFlags & Water:\nFlags will be provided\nIf you have large bike flags\, please bring them.\nWater WILL NOT be provided\, please bring your own.\n\nSTAGING #3 DETAILS: 06-11-19 \nStaging Time: 12:30 pm \nLakewood Memory Gardens South\n325 Greenslake Rd.\nRossville\, Georgia 39741\n\n\nRide Captain: \nScott Hall\npickaxe365@gmail.com\nCell: 706-463-1247\n\n\nSpecial Instructions: \n\n\nFlags & Water:\nFlags will be provided\nIf you have large bike flags\, please bring them.\nWater WILL NOT be provided\, please bring your own.\n\n\n\nSubmitted By: Thonda Farmer \nPosition: Tennessee Assistant State Captain \n\nNote: You do not have to own/ride a motorcycle or be a veteran to join\, and membership is Free. The only requirement is RESPECT! To subscribe to receive mission notices\, log into the National Site and click on the Members tab at the top. Select the Subscribe to PGR Missions option.\n Print This Page
URL:https://www.patriotguard.org/mission/james-b-williams/
CATEGORIES:Honor Mission
END:VEVENT
END:VCALENDAR