BEGIN:VCALENDAR
VERSION:2.0
PRODID:-//Patriot Guard Riders - ECPv5.3.2.1//NONSGML v1.0//EN
CALSCALE:GREGORIAN
METHOD:PUBLISH
X-WR-CALNAME:Patriot Guard Riders
X-ORIGINAL-URL:https://www.patriotguard.org
X-WR-CALDESC:Events for Patriot Guard Riders
BEGIN:VTIMEZONE
TZID:America/New_York
BEGIN:DAYLIGHT
TZOFFSETFROM:-0500
TZOFFSETTO:-0400
TZNAME:EDT
DTSTART:20190310T070000
END:DAYLIGHT
BEGIN:STANDARD
TZOFFSETFROM:-0400
TZOFFSETTO:-0500
TZNAME:EST
DTSTART:20191103T060000
END:STANDARD
END:VTIMEZONE
BEGIN:VEVENT
DTSTART;VALUE=DATE:20190823
DTEND;VALUE=DATE:20190824
DTSTAMP:20210402T130924
CREATED:20190815T024243Z
LAST-MODIFIED:20190815T024243Z
UID:170997-1566518400-1566604799@www.patriotguard.org
SUMMARY:James B. Pennewell\, Sr.
DESCRIPTION:  \n\nHonor Mission\nJames B. Pennewell\, Sr.\, Retired\nUSAF\nPensacola\, Florida  08-23-19\n\n\n \n\nABOUT THE MISSION: \nLadies and gentlemen\, I regret to inform you\, we have lost another valuable member of our military family. The Patriot Guard has been invited by the family of SMSgt James B. Pennewell Sr.\, United States Air Force\, to stand in his honor and escort him to the Barrancas National Cemetery. SMSgt Pennewell retired in 1972.\n\n\nPRIMARY STAGING DETAILS: 08-23-19 \nStaging Time: 08:30 AM  \nSteak and Shake\,\n2057 Airport Blvd\nPensacola\, Florida\n\n\nRide Captain: \nLinda “Sparkle” Caton\n850-217-4193\n\n\nSpecial Instructions: \nNaval Air Station requires long sleeve shirts\, long trousers\, long fingered gloves\, DOT approved helmets\, leather footwear covering the ankles\, and appropriate eye protection. This attire will always be worn while riding aboard the base.\n\n09:15 AM – Briefing for all riders\n09:30 AM – KSU to Harper-Morris Memorial Chapel\n10:00 AM – KSU to Barrancas National Cemetery\, Shelter B\n10:30 AM – Honors\n\n\nFlags & Water:\nFlags will be provided\nIf you have large bike flags\, please bring them.\nWater will be provided.\n  \n\n\nSubmitted By: Ray Doyle \nPosition: Florida Assistant State Captain \n\nNote: You do not have to own/ride a motorcycle or be a veteran to join\, and membership is Free. The only requirement is RESPECT! To subscribe to receive mission notices\, log into the National Site and click on the Members tab at the top. Select the Subscribe to PGR Missions option.\n Print This Page
URL:https://www.patriotguard.org/mission/james-b-pennewell-sr/
CATEGORIES:Honor Mission
END:VEVENT
END:VCALENDAR