BEGIN:VCALENDAR
VERSION:2.0
PRODID:-//Patriot Guard Riders - ECPv5.3.2.1//NONSGML v1.0//EN
CALSCALE:GREGORIAN
METHOD:PUBLISH
X-WR-CALNAME:Patriot Guard Riders
X-ORIGINAL-URL:https://www.patriotguard.org
X-WR-CALDESC:Events for Patriot Guard Riders
BEGIN:VTIMEZONE
TZID:America/New_York
BEGIN:DAYLIGHT
TZOFFSETFROM:-0500
TZOFFSETTO:-0400
TZNAME:EDT
DTSTART:20190310T070000
END:DAYLIGHT
BEGIN:STANDARD
TZOFFSETFROM:-0400
TZOFFSETTO:-0500
TZNAME:EST
DTSTART:20191103T060000
END:STANDARD
END:VTIMEZONE
BEGIN:VEVENT
DTSTART;VALUE=DATE:20190606
DTEND;VALUE=DATE:20190607
DTSTAMP:20210405T050320
CREATED:20190605T021715Z
LAST-MODIFIED:20190605T021715Z
UID:163662-1559779200-1559865599@www.patriotguard.org
SUMMARY:James Alton Cline
DESCRIPTION:Honor Mission\nJames Alton Cline\, Veteran\nUSA – WWII\, Korea\nMULTI-CITY\, Oklahoma – 06-06-19\n\n\n\nABOUT THE MISSION: \nThe family of USA WWII and Korean War Veteran SGT James Alton Cline has asked the PGR to stand a Flag Line at his services to be held at 2p.m.\n\n\nPRIMARY STAGING DETAILS: 06-06-19 \nStaging Time: 12:45 PM\n \nEisenhour Funeral Home\n8805 NE 23rd St.\nOkla. City\, Oklahoma\n\n\nRide Captain: \nDennis Denson\n(405) 830-2392\ndennis4699@cox.net\n\n\nSpecial Instructions: \nMandatory Briefing: 1p.m. Riders MUST attend the briefing to ride escort.\nFlag Line: 1:30p.m.\nRiders will attend the doors to the Funeral Home Chapel and stand a Flag Line for incoming family and friends.\nUpon completion of the Service\, a Respect Line will be stood as the Hero is transferred from the Funeral Home to the coach.\nAn accompaniment will be provided from the Funeral Home to Sunnylane Cemetery\, where a second Respect Line will be formed for the transfer of the Hero from the coach to the bier.\nWeather: High of 75 with a 90% chance of rain\, and heavy rain possible.\nPlease ride or drive at your discretion\, and remember to hydrate prior to and during this mission.\n\n\nFlags & Water:\nFlags will be provided\nLarge Bike Flags will NOT be needed.\nWater WILL NOT be provided\, please bring your own.\n\n\n\nSubmitted By: Ray Gehrig \nPosition: Oklahoma Ride Captain \n\nNote: You do not have to own/ride a motorcycle or be a veteran to join\, and membership is Free. The only requirement is RESPECT! To subscribe to receive mission notices\, log into the National Site and click on the Members tab at the top. Select the Subscribe to PGR Missions option.\n Print This Page
URL:https://www.patriotguard.org/mission/james-alton-cline/
CATEGORIES:Honor Mission
END:VEVENT
END:VCALENDAR