BEGIN:VCALENDAR
VERSION:2.0
PRODID:-//Patriot Guard Riders - ECPv5.3.2.1//NONSGML v1.0//EN
CALSCALE:GREGORIAN
METHOD:PUBLISH
X-WR-CALNAME:Patriot Guard Riders
X-ORIGINAL-URL:https://www.patriotguard.org
X-WR-CALDESC:Events for Patriot Guard Riders
BEGIN:VTIMEZONE
TZID:America/New_York
BEGIN:DAYLIGHT
TZOFFSETFROM:-0500
TZOFFSETTO:-0400
TZNAME:EDT
DTSTART:20190310T070000
END:DAYLIGHT
BEGIN:STANDARD
TZOFFSETFROM:-0400
TZOFFSETTO:-0500
TZNAME:EST
DTSTART:20191103T060000
END:STANDARD
END:VTIMEZONE
BEGIN:VEVENT
DTSTART;VALUE=DATE:20190729
DTEND;VALUE=DATE:20190730
DTSTAMP:20210402T103614
CREATED:20190723T232856Z
LAST-MODIFIED:20190723T232856Z
UID:168612-1564358400-1564444799@www.patriotguard.org
SUMMARY:James Allen Forstner
DESCRIPTION:Honor Mission\nJames Allen Forstner \, Veteran\nUSN – WWII\nPhoenix\, Arizona – 07-29-19\n\n\n\n\nABOUT THE MISSION: \nJames Allen Forstner was a United States Navy Veteran and member of The Greatest Generation. James served from 1943 till 1946 as an Aviation Radioman Third Class during WWII and earned the following decorations- American Defense Service Medal\, American Campaign Medal\, Asiatic Pacific Campaign Medal\, WWII Victory Medal.\n\n\nPRIMARY STAGING DETAILS: 07-29-19 \nStaging Time: 08:30  \nNational Memorial Cemetery of Arizona\, Visitor’s Center\n23029 N. Cave Creek Rd\nPhoenix\, Arizona 85024\n\n\nRide Captain: \nTom Burns-tgburns55@hotmail.com\n\nFlag Captain: Gary\n\n\nSpecial Instructions: \nCircle of Honor: 9:00 am\, with family\, at Visitors Center.\nMilitary Honors: 9:30 am\n\n\nFlags & Water:\nFlags will be provided\nIf you have large bike flags\, please bring them.\nWater will be provided.\n\nSubmitted By: Tom Burns \nPosition: Arizona State Captain \n\nNote: You do not have to own/ride a motorcycle or be a veteran to join\, and membership is Free. The only requirement is RESPECT! To subscribe to receive mission notices\, log into the National Site and click on the Members tab at the top. Select the Subscribe to PGR Missions option.\n Print This Page
URL:https://www.patriotguard.org/mission/james-allen-forstner/
CATEGORIES:Honor Mission
END:VEVENT
END:VCALENDAR