BEGIN:VCALENDAR
VERSION:2.0
PRODID:-//Patriot Guard Riders - ECPv5.6.0//NONSGML v1.0//EN
CALSCALE:GREGORIAN
METHOD:PUBLISH
X-WR-CALNAME:Patriot Guard Riders
X-ORIGINAL-URL:https://www.patriotguard.org
X-WR-CALDESC:Events for Patriot Guard Riders
BEGIN:VTIMEZONE
TZID:America/New_York
BEGIN:DAYLIGHT
TZOFFSETFROM:-0500
TZOFFSETTO:-0400
TZNAME:EDT
DTSTART:20160313T070000
END:DAYLIGHT
BEGIN:STANDARD
TZOFFSETFROM:-0400
TZOFFSETTO:-0500
TZNAME:EST
DTSTART:20161106T060000
END:STANDARD
END:VTIMEZONE
BEGIN:VEVENT
DTSTART;TZID=America/New_York:20160825T090000
DTEND;TZID=America/New_York:20160825T110000
DTSTAMP:20210512T024224
CREATED:20160825T130000Z
LAST-MODIFIED:20191201T143410Z
UID:409733-1472115600-1472122800@www.patriotguard.org
SUMMARY:James Allen\, 67
DESCRIPTION:[FONT=&amp]We have been invited by the family of James Allen\, U.S.  Army Veteran\, to stand in his honor. \nMr. Allen served our country with courage and honor\, and received several  citations and awards.  It is our  honor now to stand for him. \nThe  following arrangements have been made:\n\nMEMORIAL SERVICE \nDAY/DATE:   Thursday\, 25 August 2016  \nPLACE:   Young Funeral Home\, 201 W. Main St.\, Louisa\, KY 41230\nTIME:  12:30  pm\nSTAGING AREA:   McDonald’s\, (intersection of US 23/Route 3\, aka Bird’s nest)\, Louisa\, KY  41230\nSTAGING TIME:   10:30 am\nKSU:  10:45  am \nBurial will be at the Kentucky Veteran’s Cemetery NE  directly following the service. \nPlease bring your 3×5 American flags\, arrive hydrated\,  and dress according to the weather conditions. \nEd Hicks and Charlie French will be the Ride Captains  for this mission. If you have  any questions\, please contact me at the number below.     \nTom Epperly\n606-571-9022 \n \n\n \n[/FONT]
URL:https://www.patriotguard.org/mission/james-allen-67/
CATEGORIES:Archive
END:VEVENT
END:VCALENDAR