BEGIN:VCALENDAR
VERSION:2.0
PRODID:-//Patriot Guard Riders - ECPv5.3.2.1//NONSGML v1.0//EN
CALSCALE:GREGORIAN
METHOD:PUBLISH
X-WR-CALNAME:Patriot Guard Riders
X-ORIGINAL-URL:https://www.patriotguard.org
X-WR-CALDESC:Events for Patriot Guard Riders
BEGIN:VTIMEZONE
TZID:America/New_York
BEGIN:DAYLIGHT
TZOFFSETFROM:-0500
TZOFFSETTO:-0400
TZNAME:EDT
DTSTART:20170312T070000
END:DAYLIGHT
BEGIN:STANDARD
TZOFFSETFROM:-0400
TZOFFSETTO:-0500
TZNAME:EST
DTSTART:20171105T060000
END:STANDARD
END:VTIMEZONE
BEGIN:VEVENT
DTSTART;TZID=America/New_York:20170216T094500
DTEND;TZID=America/New_York:20170216T114500
DTSTAMP:20210401T230329
CREATED:20170216T144500Z
LAST-MODIFIED:20191201T034857Z
UID:344914-1487238300-1487245500@www.patriotguard.org
SUMMARY:James A. Roberts\, USMC\, USCG
DESCRIPTION:James A. Roberts\, Veteran \nUSMC\, USCG \nMemphis\, Tennessee – 16 Feb 2017\n\n\n[HR][/HR] \n\n\nABOUT THE MISSION: \nJames A. Roberts\, 67\, of Bartlett\, TN\, passed away Saturday\, February   11\, 2017 surrounded by loved ones. He was a retiree of Coors Brewery   after thirty-two years. He also retired from the City of Lakeland as a   Code Enforcement Officer after seven years. He graduated from Kingsbury   High School in 1969\, was a member of the Masons\, Scottish Right\, York   Right\, and The Shriner’s. Mr. Roberts was a member of the Memphis Bop   Club\, and proudly served as a Marine and in the Coast Guard. \nPRIMARY STAGING DETAILS:  16 Feb 2017\n \n\n\n\nPrimary Staging Time:  9:45 A.M.\n\nForest Hill East Funeral Home\n2440 Whitten Road\n\nMemphis\, Tennessee – 38133\n\nhttps://goo.gl/maps/rjCE8QrqLV62  \n\n\nRide Captain:\n\nMike Young\nmikeyoung@comcast.net\n901-268-9705\n\n\nSpecial Instructions:\n\nWeather: Thursday 16 FEB\, sunny\, 61°\, precip 10% wind SW at 11MPH\n\n\n\n\nFlags & Water:\n\nFlags Will Be Provided\n\nLarge Bike Flags will NOT be needed.\n\nWater WILL NOT be provided\, please bring your own.\n\n\nSubmitted By:  Johnny Rivera\nPosition:  Assistant State Captain \n\n[HR][/HR]\nNote:\nYou do not have to own/ride a motorcycle or be a Veteran to join and membership is Free. The only requirement is RESPECT! To join\, simply go to Patriot Guard website and click on Register. Membership is Free. \nTo subscribe to receive mission notices\, log into the National Site and   click on the Mission Tab at the top. Select Upcoming Missions by State.   Scroll to the state(s) you would like to receive notices for and click   on the green check mark. Detailed instructions are also located in the   FAQs on the site by clicking on the Quick Links Tab and selecting  FAQs.
URL:https://www.patriotguard.org/mission/james-a-roberts-usmc-uscg/
END:VEVENT
END:VCALENDAR