BEGIN:VCALENDAR
VERSION:2.0
PRODID:-//Patriot Guard Riders - ECPv5.6.0//NONSGML v1.0//EN
CALSCALE:GREGORIAN
METHOD:PUBLISH
X-WR-CALNAME:Patriot Guard Riders
X-ORIGINAL-URL:https://www.patriotguard.org
X-WR-CALDESC:Events for Patriot Guard Riders
BEGIN:VTIMEZONE
TZID:America/New_York
BEGIN:DAYLIGHT
TZOFFSETFROM:-0500
TZOFFSETTO:-0400
TZNAME:EDT
DTSTART:20160313T070000
END:DAYLIGHT
BEGIN:STANDARD
TZOFFSETFROM:-0400
TZOFFSETTO:-0500
TZNAME:EST
DTSTART:20161106T060000
END:STANDARD
END:VTIMEZONE
BEGIN:VEVENT
DTSTART;TZID=America/New_York:20160822T090000
DTEND;TZID=America/New_York:20160822T110000
DTSTAMP:20210511T190502
CREATED:20160822T130000Z
LAST-MODIFIED:20191201T143435Z
UID:409771-1471856400-1471863600@www.patriotguard.org
SUMMARY:Jacob R. Karb\, Jr.
DESCRIPTION:Please note that due to ongoing OPSEC concerns\, mission details are not shown in this posting. All specific details and updates have been sent to members directly via their e-mail address on file. \nFellow PGR Members: \nWe have been requested to stand in Honor of Jacob R. Karb\, Jr. of Boston\, NY who passed away on August 18th. \nWith this short notice\, I have limited military service information\, other than Mr. Karb served Honorably in the US Air Force and retired with 26 years of service to our Nation. \nWhen/Where:\nMonday\, August 22\, 2016 \nBoston\, NY  14025 \nLRC:\nWayne Siminski\nwayjo699@aim.com \nPlease do whatever you are able to help the Patriot Guard Riders Honor the 26-year US Air Force career of Jacob R. Karb\, Jr. \nPlease arrive on time with a clean 3×5 American Flag or a US Air Force flag.  Dress for the weather\, bring a beverage for hydration\, and ensure your bike flags are properly placed and securely attached.
URL:https://www.patriotguard.org/mission/jacob-r-karb-jr/
CATEGORIES:Archive
END:VEVENT
END:VCALENDAR