BEGIN:VCALENDAR
VERSION:2.0
PRODID:-//Patriot Guard Riders - ECPv5.6.0//NONSGML v1.0//EN
CALSCALE:GREGORIAN
METHOD:PUBLISH
X-WR-CALNAME:Patriot Guard Riders
X-ORIGINAL-URL:https://www.patriotguard.org
X-WR-CALDESC:Events for Patriot Guard Riders
BEGIN:VTIMEZONE
TZID:America/New_York
BEGIN:DAYLIGHT
TZOFFSETFROM:-0500
TZOFFSETTO:-0400
TZNAME:EDT
DTSTART:20160313T070000
END:DAYLIGHT
BEGIN:STANDARD
TZOFFSETFROM:-0400
TZOFFSETTO:-0500
TZNAME:EST
DTSTART:20161106T060000
END:STANDARD
END:VTIMEZONE
BEGIN:VEVENT
DTSTART;TZID=America/New_York:20160623T090000
DTEND;TZID=America/New_York:20160623T110000
DTSTAMP:20210513T183536
CREATED:20160623T130000Z
LAST-MODIFIED:20191201T144905Z
UID:411105-1466672400-1466679600@www.patriotguard.org
SUMMARY:Jacob David Waggoner\, 32\, USMC
DESCRIPTION:Ladies and Gentlemen of the Patriot Guard Riders\, we have been requested to stand for Jacob David Waggoner\, age 32. Jacob enlisted in the Marines May 2004 and was honorably discharged June 2007 at the rank of Corporal. During his tour of duty in Iraq he served in Communications. He was awarded the Iraq Campaign Medal w/ Gold Star\, Armed Forces Reserve Medal w/ “M” Device\, Global War on Terrorism Service Medal\, Sea Service Deployment Ribbon\, Navy Unit Citation Ribbon\, and the National Defense Service Ribbon. Please join us as we help support his family\, pay our respects\, and honor his service to our nation. \nMission Date: Thursday\, 23/JUN/16\nRide Captain:  Lynn Morett p_morett@yahoo.com\nStaging Location: Willamette National Cemetery – 11800 SE Mt Scott Blvd.\, Portland\, OR – up top at the Rostrum by the flagpole\, please enter the cemetery through Gate 2 – across from Lincoln Memorial. \nStaging Time: 9:00 am\nBriefing: 9:20 am\nKSU: 9:30 am\nFlag line Set:  9:45 am\nService Begins: 10:00 am\n*** There will be a RHG from the office to the shelter. \n—\nJohn Hanan II\nOregon State Captain
URL:https://www.patriotguard.org/mission/jacob-david-waggoner-32-usmc/
CATEGORIES:Archive
END:VEVENT
END:VCALENDAR