BEGIN:VCALENDAR
VERSION:2.0
PRODID:-//Patriot Guard Riders - ECPv5.3.2.1//NONSGML v1.0//EN
CALSCALE:GREGORIAN
METHOD:PUBLISH
X-WR-CALNAME:Patriot Guard Riders
X-ORIGINAL-URL:https://www.patriotguard.org
X-WR-CALDESC:Events for Patriot Guard Riders
BEGIN:VTIMEZONE
TZID:America/New_York
BEGIN:DAYLIGHT
TZOFFSETFROM:-0500
TZOFFSETTO:-0400
TZNAME:EDT
DTSTART:20190310T070000
END:DAYLIGHT
BEGIN:STANDARD
TZOFFSETFROM:-0400
TZOFFSETTO:-0500
TZNAME:EST
DTSTART:20191103T060000
END:STANDARD
END:VTIMEZONE
BEGIN:VEVENT
DTSTART;VALUE=DATE:20190913
DTEND;VALUE=DATE:20190914
DTSTAMP:20210401T083229
CREATED:20190910T231806Z
LAST-MODIFIED:20190910T231806Z
UID:173442-1568332800-1568419199@www.patriotguard.org
SUMMARY:Jackie Reynolds
DESCRIPTION:Honor Mission\nJackie Reynolds\, Veteran\nUSA – Vietnam\nGarden City\, Georgia – 09-13-19\n\n\n\n\nABOUT THE MISSION: \nThe family of Jackie Reynolds has invited the Patriot Guard Riders to stand for their hero. We have told them it will be our honor. Mr. Reynolds was a Vietnam veteran\, he served from 9/6/1967 thru 5/4/1970.\n\n\nPRIMARY STAGING DETAILS: 09-13-19 \nStaging Time: 09:00 am \nFamily First Funeral Home and Crematory\n1328 Dean Forest Road\nGarden City\, Georgia 31405\n\n\nRide Captain: \nGrady (GPS) Blaxton\nblaxtong@yahoo.com\n912-293-2827\n\n\nSpecial Instructions: \nThis is a escort from Garden City to Georgia Veterans Memorial Cemetery Glennville where we will stand a flag line for the service.\n\n\nFlags & Water:\n\nFlags will be provided\nIf you have large bike flags\, please bring them.\nWater WILL NOT be provided\, please bring your own.\n\n\n\nSubmitted By: George Blaxton \nPosition: Georgia Ride Captain \n\nNote: You do not have to own/ride a motorcycle or be a veteran to join\, and membership is Free. The only requirement is RESPECT! To subscribe to receive mission notices\, log into the National Site and click on the Members tab at the top. Select the Subscribe to PGR Missions option.\n Print This Page
URL:https://www.patriotguard.org/mission/jackie-reynolds/
CATEGORIES:Honor Mission
END:VEVENT
END:VCALENDAR