BEGIN:VCALENDAR
VERSION:2.0
PRODID:-//Patriot Guard Riders - ECPv5.3.2.1//NONSGML v1.0//EN
CALSCALE:GREGORIAN
METHOD:PUBLISH
X-WR-CALNAME:Patriot Guard Riders
X-ORIGINAL-URL:https://www.patriotguard.org
X-WR-CALDESC:Events for Patriot Guard Riders
BEGIN:VTIMEZONE
TZID:America/New_York
BEGIN:DAYLIGHT
TZOFFSETFROM:-0500
TZOFFSETTO:-0400
TZNAME:EDT
DTSTART:20170312T070000
END:DAYLIGHT
BEGIN:STANDARD
TZOFFSETFROM:-0400
TZOFFSETTO:-0500
TZNAME:EST
DTSTART:20171105T060000
END:STANDARD
END:VTIMEZONE
BEGIN:VEVENT
DTSTART;TZID=America/New_York:20171007T070000
DTEND;TZID=America/New_York:20171007T090000
DTSTAMP:20210403T010652
CREATED:20171007T110000Z
LAST-MODIFIED:20191201T033122Z
UID:333634-1507359600-1507366800@www.patriotguard.org
SUMMARY:Jackie “Jack” Weldon Moore\, Veteran\, USA
DESCRIPTION:Jackie “Jack” Weldon Moore\, Veteran\nUSA\nClovis\, New Mexico – 07 Oct 2017\n\n\n[HR][/HR]\nABOUT THE MISSION: \n\nThe PGR are very honored Jack Moore’s family asked us to stand for one of our fallen brothers. \nJack\,76\, graduated from Alamogordo High School\, Alamogordo\, New Mexico  and married his wife on June 24\, 1994 in El Paso\, TX.\nJack proudly served his country for four years in the United States  Army. He was a member of the 2nd Battalion 44th Artillery\, Fourth US  Army Division during the Vietnam War Era. \nUpon returning home\, he used his GI Bill and graduated from NM State  University.  Jack became a varsity coach at Zia Middle School in Las  Cruces\, New Mexico and later became a principal for the Truth or  Consequences school systems in T or C\, New Mexico. Jack was also an  assistant principal for the Gadsden Independent School District\, as well  as a principal in Socorro\, New Mexico. \nJack is survived by his wife\, his children\, several grandchildren and great-grandchildren and his cousin who is a very active PGR  member. \nWhile living in Las Cruces\, NM Jack attended Calvary Baptist Church and  later became a valued member with the Floyd Baptist Church in Floyd\, New  Mexico. \nPlease read Jack’s complete obituary at: http://www.legacy.com/obituaries/eas…?pid=186725323\n\n\nPRIMARY STAGING DETAILS:  07 Oct 2017\nPrimary Staging Time: 0800 A.M. \n\nAllsup’s  Convenience Store\n700 S. Prince (Intersection of Prince & E. Brady\, South of Overpass towards Portales)\nClovis\, New Mexico – 88101\n\n\nRide Captain: \n\nDennis Chalker\nREDHORSEpgr@yahoo.com\n575-799-4030 \nJim Lewis\njlewis1000@suddenlink.net\n575-218-0001\n\n\nSpecial Instructions: \n\nMission briefing at 0815; then KSU to Floyd\, NM\n\n\nFlags & Water: \n\nFlags Will Be Provided\nLarge Bike Flags will NOT be needed.\nWater will be provided.\n\n\nSubmitted By: Dennis Chalker\nPosition: Assistant State Captain\n[HR][/HR]Note:\nYou do not have to own/ride a motorcycle or be a Veteran to join and membership is Free. The only requirement is RESPECT! To join\, simply go to www.PatriotGuard.org and click on Register. Membership is Free. \nTo subscribe to receive mission notices\, log into the National Site and click on the Mission Tab at the top. Select the Subscribe to Missions option.
URL:https://www.patriotguard.org/mission/jackie-jack-weldon-moore-veteran-usa/
LOCATION:2019 Roll Call of Remembrance
END:VEVENT
END:VCALENDAR