BEGIN:VCALENDAR
VERSION:2.0
PRODID:-//Patriot Guard Riders - ECPv5.3.2.1//NONSGML v1.0//EN
CALSCALE:GREGORIAN
METHOD:PUBLISH
X-WR-CALNAME:Patriot Guard Riders
X-ORIGINAL-URL:https://www.patriotguard.org
X-WR-CALDESC:Events for Patriot Guard Riders
BEGIN:VTIMEZONE
TZID:America/New_York
BEGIN:DAYLIGHT
TZOFFSETFROM:-0500
TZOFFSETTO:-0400
TZNAME:EDT
DTSTART:20190310T070000
END:DAYLIGHT
BEGIN:STANDARD
TZOFFSETFROM:-0400
TZOFFSETTO:-0500
TZNAME:EST
DTSTART:20191103T060000
END:STANDARD
END:VTIMEZONE
BEGIN:VEVENT
DTSTART;VALUE=DATE:20190531
DTEND;VALUE=DATE:20190601
DTSTAMP:20210405T042313
CREATED:20190530T141754Z
LAST-MODIFIED:20190530T141754Z
UID:163008-1559260800-1559347199@www.patriotguard.org
SUMMARY:Jackie Harold Lewy
DESCRIPTION:Honor Mission\nJackie Harold Lewy\, Veteran\nUSN – Korea\nSpringfield\, Missouri – 05-31-19\n\n\n\nABOUT THE MISSION: \nJackie Lewy was born April 4\, 1933 in Springfield\, MO\, and died May 25\, 2019 in Sarasota\, FL. He faithfully served our country by enlisting in the United States Navy in 1951 and rose to the rank of Petty Officer 3rd Class\, Photographic Intelligenceman. He served in the Korean conflict and in Japan aboard the USS General Anderson and earned the National Defense Service Medal\, Korean Service Medal\, United Nations Service Medal\, Good Conduct Medal\, and the Navy Campaign Service Medal. He was honorably discharged in 1955. Jack\, as he was known by\, loved his country and was proud to be an American soldier. He would often reminisce about his military service and he loved to talk about antique cars and politics.\n\nNOTE: THE FAMILY HAS REQUESTED THE PGR TO PROVIDE 6 PALL BEARERS.\n\n\nPRIMARY STAGING DETAILS: 05-31-19 \nStaging Time: 11:45 am\n \nGreenlawn South FH\n441 W. Battlefield\nSpringfield\, Missouri 65807\n\n\nRide Captain: \nSteve Simko\n(210) 621-8623\ncsdsimko@sbcglobal.net\n\n\nSpecial Instructions: \nSTAGE: 11:45 am\nBRIEF: 12:00 pm\,\nFINAL SALUTE: 12:25 pm\nESCORT: 12:40 pm\nCOMMITTAL SERVICE: 1:00 pm\nSpringfield National Cemetery\, 1702 Seminole St.\, Springfield\, MO 65804\nWEATHER FORECAST: 76˚ and 0% chance of precipitation\, wind 7 mph\n\n\nFlags & Water:\nFlags will be provided\nIf you have large bike flags\, please bring them.\nWater WILL NOT be provided\, please bring your own.\n\n\nSubmitted By: steve simko \nPosition: Missouri Ride Captain \n\nNote: You do not have to own/ride a motorcycle or be a veteran to join\, and membership is Free. The only requirement is RESPECT! To subscribe to receive mission notices\, log into the National Site and click on the Members tab at the top. Select the Subscribe to PGR Missions option.\n Print This Page
URL:https://www.patriotguard.org/mission/jackie-harold-lewy/
CATEGORIES:Honor Mission
END:VEVENT
END:VCALENDAR