BEGIN:VCALENDAR
VERSION:2.0
PRODID:-//Patriot Guard Riders - ECPv5.3.2.1//NONSGML v1.0//EN
CALSCALE:GREGORIAN
METHOD:PUBLISH
X-WR-CALNAME:Patriot Guard Riders
X-ORIGINAL-URL:https://www.patriotguard.org
X-WR-CALDESC:Events for Patriot Guard Riders
BEGIN:VTIMEZONE
TZID:America/New_York
BEGIN:DAYLIGHT
TZOFFSETFROM:-0500
TZOFFSETTO:-0400
TZNAME:EDT
DTSTART:20190310T070000
END:DAYLIGHT
BEGIN:STANDARD
TZOFFSETFROM:-0400
TZOFFSETTO:-0500
TZNAME:EST
DTSTART:20191103T060000
END:STANDARD
END:VTIMEZONE
BEGIN:VEVENT
DTSTART;VALUE=DATE:20190903
DTEND;VALUE=DATE:20190905
DTSTAMP:20210401T103720
CREATED:20190902T153245Z
LAST-MODIFIED:20190902T153245Z
UID:172295-1567468800-1567641599@www.patriotguard.org
SUMMARY:Jackie Eugene Bell
DESCRIPTION:Honor Mission\nJackie Eugene Bell\, Veteran\nUSMC\nShepherdsville\, Kentucky – 09-03-19\n\n\n\nABOUT THE MISSION: \nMr. Bell proudly served in the United States Marine Corp. This will be a two day mission – both days are flag lines only.\n\n\nPRIMARY STAGING DETAILS: 09-03-19 \nStaging Time: 10:45 am  \nSchoppenhorst\, Underwood and Brooks\n4895 North Preston Highway\nShepherdsville\, Kentucky 40165\n\n\nRide Captain: \nDavid Ballard\n502 249 0011\n\n\nSpecial Instructions: \nFlag line only from 11:00 am to 5 pm\n\n\nFlags & Water:\nFlags will be provided\nLarge Bike Flags will NOT be needed.\nWater WILL NOT be provided\, please bring your own.\n\nSTAGING #2 DETAILS: 09-04-19 \nStaging Time: 8:45 am  \nSchoppenhorst\, Underwood and Brooks\n4895 North Preston Highway\nShepherdsville\, Kentucky 40165\n\n\nRide Captain: \nBob Kissell\n502 779 0638\n\n\nSpecial Instructions: \nFlag line only 9 am – 12 pm — Service starts at 12\nPlease come hydrated and dressed for the weather\n\n\nFlags & Water:\nFlags will be provided\nLarge Bike Flags will NOT be needed.\nWater WILL NOT be provided\, please bring your own.\n\n\nSubmitted By: Thomas Baker \nPosition: Kentucky Ride Captain \n\nNote: You do not have to own/ride a motorcycle or be a veteran to join\, and membership is Free. The only requirement is RESPECT! To subscribe to receive mission notices\, log into the National Site and click on the Members tab at the top. Select the Subscribe to PGR Missions option.\n Print This Page
URL:https://www.patriotguard.org/mission/jackie-eugene-bell/
CATEGORIES:Honor Mission
END:VEVENT
END:VCALENDAR