BEGIN:VCALENDAR
VERSION:2.0
PRODID:-//Patriot Guard Riders - ECPv5.6.0//NONSGML v1.0//EN
CALSCALE:GREGORIAN
METHOD:PUBLISH
X-WR-CALNAME:Patriot Guard Riders
X-ORIGINAL-URL:https://www.patriotguard.org
X-WR-CALDESC:Events for Patriot Guard Riders
BEGIN:VTIMEZONE
TZID:America/New_York
BEGIN:DAYLIGHT
TZOFFSETFROM:-0500
TZOFFSETTO:-0400
TZNAME:EDT
DTSTART:20160313T070000
END:DAYLIGHT
BEGIN:STANDARD
TZOFFSETFROM:-0400
TZOFFSETTO:-0500
TZNAME:EST
DTSTART:20161106T060000
END:STANDARD
END:VTIMEZONE
BEGIN:VEVENT
DTSTART;TZID=America/New_York:20160601T090000
DTEND;TZID=America/New_York:20160601T110000
DTSTAMP:20210513T133200
CREATED:20160601T130000Z
LAST-MODIFIED:20191201T145558Z
UID:411728-1464771600-1464778800@www.patriotguard.org
SUMMARY:Jack Robert Wright\, 94\, USN
DESCRIPTION:Ladies and Gentlemen of the Patriot Guard Riders\, we have been invited to stand for Jack R. Wright\, age 94.  Jack was born in Grangeville\, ID and his family moved to Eugene\, OR when he was four years old. He joined the Navy Seabees (Construction Battalion) after Pearl Harbor. He served during WWII from 1942 to 1945 and achieved the rank of Chief Petty Officer (E7). Following the war\, Jack returned to Eugene and opened a Cabinet Shop with a fellow Seabee. Jack married Barbara in 1946 and they raised their family in the Eugene/Springfield area for many years. Jack and the family moved to Milwaukie\, OR in 1962 when he joined Guy V. Sweet Co. as an Installer of School Specialty Equipment. He later became self-employed and worked on many notable jobs in the Pacific NW\, including Husky Stadium and the OSU Indoor Practice Facility. He worked until he was 82 years old because his jobs were “More of a Hobby\, than Work.” He also joined the Seabee Reserves and became National Commander of the Seabee Veterans of America bringing the National Convention to Portland in 1974 & 1980. He will be buried with his beloved wife\, Barbara.  Please join us as we help support his family\, pay our respects\, and honor his service to our nation. \nMission Date: Wednesday\, 1/JUN/16 \nRide Captain:  Lynn Morett p_morett@yahoo.com \nStaging Location: Willamette National Cemetery – 11800 SE Mt Scott Blvd.\, Portland\, OR – up top at the Rostrum by the flagpole\, please enter the cemetery through Gate 2 – across from Lincoln Memorial. \nStaging Time: 10:00 am\nBriefing: 10:20 am\nKSU: 10:30 am\nFlag line Set:  10:45 am\nService Begins: 11:00 am\n*** There will be a RHG from the office to the shelter. \n—\nJohn Hanan II\nOregon State Captain
URL:https://www.patriotguard.org/mission/jack-robert-wright-94-usn/
CATEGORIES:Archive
END:VEVENT
END:VCALENDAR