BEGIN:VCALENDAR
VERSION:2.0
PRODID:-//Patriot Guard Riders - ECPv5.3.2.1//NONSGML v1.0//EN
CALSCALE:GREGORIAN
METHOD:PUBLISH
X-WR-CALNAME:Patriot Guard Riders
X-ORIGINAL-URL:https://www.patriotguard.org
X-WR-CALDESC:Events for Patriot Guard Riders
BEGIN:VTIMEZONE
TZID:America/New_York
BEGIN:DAYLIGHT
TZOFFSETFROM:-0500
TZOFFSETTO:-0400
TZNAME:EDT
DTSTART:20190310T070000
END:DAYLIGHT
BEGIN:STANDARD
TZOFFSETFROM:-0400
TZOFFSETTO:-0500
TZNAME:EST
DTSTART:20191103T060000
END:STANDARD
END:VTIMEZONE
BEGIN:VEVENT
DTSTART;VALUE=DATE:20190628
DTEND;VALUE=DATE:20190629
DTSTAMP:20210405T065552
CREATED:20190627T204727Z
LAST-MODIFIED:20190627T204727Z
UID:166110-1561680000-1561766399@www.patriotguard.org
SUMMARY:Jack Phillip Story
DESCRIPTION:Honor Mission\nJack Phillip Story\, Retired\nUSA –\nHamilton\, Georgia – 06-28-19\n\n\n\nABOUT THE MISSION: \nThe family of Col. Jack P. Story\, USA has requested the Patriot Guard stand a silent flag line in honor of their love one’s service to our country. It is our honor to do so. Mr. Story passed away on June 26 at home with his family by his side. His was 84 years old. Col. Story served our country for 33 years in the Army Medical Service Corp. Mr. Story is survived by his wife of 63 years\, 5 children\, 17 grandchildren and 8 great-grandchildren.\n\n\nPRIMARY STAGING DETAILS: 06-28-19 \nStaging Time: 5:30 PM\n \nCox Funeral Home\n240 Walton Street\nHamilton\, Georgia 31811\n\n\nRide Captain: \nPhil “mumbles” Bennett\nbennettphil@hotmail.com\n\n\nSpecial Instructions: \nThis will be a flag line mission only.\n\n\nFlags & Water:\nFlags will be provided\nLarge Bike Flags will NOT be needed.\nWater will be provided.\n\n\n\nSubmitted By: Phillip Bennett \nPosition: Georgia Ride Captain \n\nNote: You do not have to own/ride a motorcycle or be a veteran to join\, and membership is Free. The only requirement is RESPECT! To subscribe to receive mission notices\, log into the National Site and click on the Members tab at the top. Select the Subscribe to PGR Missions option.\n Print This Page
URL:https://www.patriotguard.org/mission/jack-phillip-story/
CATEGORIES:Honor Mission
END:VEVENT
END:VCALENDAR