BEGIN:VCALENDAR
VERSION:2.0
PRODID:-//Patriot Guard Riders - ECPv5.3.2.1//NONSGML v1.0//EN
CALSCALE:GREGORIAN
METHOD:PUBLISH
X-WR-CALNAME:Patriot Guard Riders
X-ORIGINAL-URL:https://www.patriotguard.org
X-WR-CALDESC:Events for Patriot Guard Riders
BEGIN:VTIMEZONE
TZID:America/New_York
BEGIN:DAYLIGHT
TZOFFSETFROM:-0500
TZOFFSETTO:-0400
TZNAME:EDT
DTSTART:20190310T070000
END:DAYLIGHT
BEGIN:STANDARD
TZOFFSETFROM:-0400
TZOFFSETTO:-0500
TZNAME:EST
DTSTART:20191103T060000
END:STANDARD
END:VTIMEZONE
BEGIN:VEVENT
DTSTART;VALUE=DATE:20190816
DTEND;VALUE=DATE:20190817
DTSTAMP:20210402T113129
CREATED:20190814T161621Z
LAST-MODIFIED:20190814T161621Z
UID:170796-1565913600-1565999999@www.patriotguard.org
SUMMARY:Jack LaPlante
DESCRIPTION:Honor Mission\nJack LaPlante\, Veteran\nUSA\nSt. Louis\, Missouri – 08-16-19\n\n\n\nABOUT THE MISSION: \nPlease stand with us to honor Jack LaPlante\, US Army veteran before his funeral service. There will be an honor escort to Jefferson Barracks National Cemetery following his service. Our hero served from 1959 to 1961 as an Aircraft Mechanic and was honorably discharged as a PFC. Mr. LaPlante earned the Marksman Badge\, the Sharpshooter Badge\, and the Good Conduct Medal.\n\n\nPRIMARY STAGING DETAILS: 08-16-19 \nStaging Time: 10:45 am\n \nPeace Lutheran Church\n737 Barracksview Rd.\nSt. Louis\, Missouri 63129\n\n\nRide Captain: \nDenny Dutchman Eads\n314-277-2721\n\n\nSpecial Instructions: \nFlag line: 11:00 AM\nService: 12 Noon\nJefferson Barracks Appt.: 1:00 PM\n\n\nFlags & Water:\nFlags will be provided\nIf you have large bike flags\, please bring them.\nWater will be provided.\n\nSubmitted By: Denny Eads \nPosition: Missouri Ride Captain \n\nNote: You do not have to own/ride a motorcycle or be a veteran to join\, and membership is Free. The only requirement is RESPECT! To subscribe to receive mission notices\, log into the National Site and click on the Members tab at the top. Select the Subscribe to PGR Missions option.\n Print This Page
URL:https://www.patriotguard.org/mission/jack-laplante/
CATEGORIES:Honor Mission
END:VEVENT
END:VCALENDAR