BEGIN:VCALENDAR
VERSION:2.0
PRODID:-//Patriot Guard Riders - ECPv5.3.2.1//NONSGML v1.0//EN
CALSCALE:GREGORIAN
METHOD:PUBLISH
X-WR-CALNAME:Patriot Guard Riders
X-ORIGINAL-URL:https://www.patriotguard.org
X-WR-CALDESC:Events for Patriot Guard Riders
BEGIN:VTIMEZONE
TZID:America/New_York
BEGIN:DAYLIGHT
TZOFFSETFROM:-0500
TZOFFSETTO:-0400
TZNAME:EDT
DTSTART:20170312T070000
END:DAYLIGHT
BEGIN:STANDARD
TZOFFSETFROM:-0400
TZOFFSETTO:-0500
TZNAME:EST
DTSTART:20171105T060000
END:STANDARD
END:VTIMEZONE
BEGIN:VEVENT
DTSTART;TZID=America/New_York:20170612T084500
DTEND;TZID=America/New_York:20170612T104500
DTSTAMP:20210402T012150
CREATED:20170612T124500Z
LAST-MODIFIED:20191201T032754Z
UID:331018-1497257100-1497264300@www.patriotguard.org
SUMMARY:Jack G. Christian\, Veteran\, USN - WWII
DESCRIPTION:Jack G. Christian\, Veteran \nUSN – WWII \nLee’s Summit\, Missouri – 12 Jun 2017\n\n[HR][/HR]\nABOUT THE MISSION: \nJack was in the US Navy from 1942 thru 1946. He was a Aviation Machinist Mate 2nd Class. Most of his service was in the Asiatic Pacific. He was 92 years old. \nPRIMARY STAGING DETAILS: 12 Jun 2017 \n \nPrimary Staging Time: 8:45 A.M.\n\nLee’s Summit Historical Cemetery\n806 SE 3rd Street (3rd and Hwy 291)\n\nLee’s Summit\, Missouri –\n\n\n\n \nRide Captain:\n\nJerry (Deepfreeze) Ewing\n816-590-0104\n\n \nSpecial Instructions:\n\nStage 8:45\nMeeting 9:15\nFamily arrives 9:45\nService 10:00\n\n \nFlags & Water:\n\nFlags Will Be Provided\n\nLarge Bike Flags will NOT be needed.\n\nWater WILL NOT be provided\, please bring your own.\n\n\nSubmitted By: Gerald Ewing\nPosition: Ride Captain \n[HR][/HR]\nNote:\nYou do not have to own/ride a motorcycle or be a Veteran to join and membership is Free. The only requirement is RESPECT! To join\, simply go to www.PatriotGuard.org and click on Register. Membership is Free. \nTo subscribe to receive mission notices\, log into the National Site and click on the Mission Tab at the top. Select Upcoming Missions by State. Scroll to the state(s) you would like to receive notices for and click on the green check mark. Detailed instructions are also located in the FAQs on the site by clicking on the Quick Links Tab and selecting FAQs.
URL:https://www.patriotguard.org/mission/jack-g-christian-veteran-usn-wwii/
END:VEVENT
END:VCALENDAR