BEGIN:VCALENDAR
VERSION:2.0
PRODID:-//Patriot Guard Riders - ECPv5.3.2.1//NONSGML v1.0//EN
CALSCALE:GREGORIAN
METHOD:PUBLISH
X-WR-CALNAME:Patriot Guard Riders
X-ORIGINAL-URL:https://www.patriotguard.org
X-WR-CALDESC:Events for Patriot Guard Riders
BEGIN:VTIMEZONE
TZID:America/New_York
BEGIN:DAYLIGHT
TZOFFSETFROM:-0500
TZOFFSETTO:-0400
TZNAME:EDT
DTSTART:20190310T070000
END:DAYLIGHT
BEGIN:STANDARD
TZOFFSETFROM:-0400
TZOFFSETTO:-0500
TZNAME:EST
DTSTART:20191103T060000
END:STANDARD
END:VTIMEZONE
BEGIN:VEVENT
DTSTART;VALUE=DATE:20190531
DTEND;VALUE=DATE:20190601
DTSTAMP:20210405T121917
CREATED:20190529T133101Z
LAST-MODIFIED:20190529T133410Z
UID:162801-1559260800-1559347199@www.patriotguard.org
SUMMARY:Jack Eugene Palm
DESCRIPTION:Honor Mission\nJack Eugene Palm\, Veteran\nUSMC\nRoseburg\, Oregon – 05-31-19\n\n\n\nABOUT THE MISSION: \nLadies and Gentlemen of the Patriot Guard Riders\, we have been invited to stand for Jack Eugene Palm\, age 82. Jack served in the US Marine Corps from 20 January 1954 to 24 January 1957 in Headquarters & Service Co\, 3rd Service Regiment\, 3rd Marine Division\, Camp Courtney\, Okinawa as a Mess Cook. He was Honorably Discharged at the rank of CPL (E4) and earned the National Defense Service Medal. Please join us as we pay our respects and honor his service to our nation.\n\n\nPRIMARY STAGING DETAILS: 05-31-19 \nStaging Time: 12:00 pm\n \nMelrose Cemetery\n230 Champagne Creek DR\nRoseburg\, Oregon 97471\n\nMap\n\n\nRide Captain: \nLiberty/Linda Mooney\nlinda.mooney@earthlink.net\n\n\nSpecial Instructions: \nBriefing: 12:15 pm\nFlag Line Set: 12:30 pm\nService Begins: 1:00 pm\n\n\nFlags & Water:\n\nFlags will be provided\nLarge Bike Flags will NOT be needed.\nWater WILL NOT be provided\, please bring your own.\n\n\nSubmitted By: John Hanan II \nPosition: Oregon State Captain \n\nNote: You do not have to own/ride a motorcycle or be a veteran to join\, and membership is Free. The only requirement is RESPECT! To subscribe to receive mission notices\, log into the National Site and click on the Members tab at the top. Select the Subscribe to PGR Missions option.\n Print This Page
URL:https://www.patriotguard.org/mission/jack-eugene-palm/
CATEGORIES:Honor Mission
END:VEVENT
END:VCALENDAR