BEGIN:VCALENDAR
VERSION:2.0
PRODID:-//Patriot Guard Riders - ECPv5.3.2.1//NONSGML v1.0//EN
CALSCALE:GREGORIAN
METHOD:PUBLISH
X-WR-CALNAME:Patriot Guard Riders
X-ORIGINAL-URL:https://www.patriotguard.org
X-WR-CALDESC:Events for Patriot Guard Riders
BEGIN:VTIMEZONE
TZID:America/New_York
BEGIN:DAYLIGHT
TZOFFSETFROM:-0500
TZOFFSETTO:-0400
TZNAME:EDT
DTSTART:20190310T070000
END:DAYLIGHT
BEGIN:STANDARD
TZOFFSETFROM:-0400
TZOFFSETTO:-0500
TZNAME:EST
DTSTART:20191103T060000
END:STANDARD
END:VTIMEZONE
BEGIN:VEVENT
DTSTART;VALUE=DATE:20190617
DTEND;VALUE=DATE:20190618
DTSTAMP:20210405T134215
CREATED:20190614T233450Z
LAST-MODIFIED:20190614T234059Z
UID:164807-1560729600-1560815999@www.patriotguard.org
SUMMARY:Jack Edwin Weston
DESCRIPTION:Honor Mission\nJack Edwin Weston\, Retired\nUSA\, Vietnam\nLincolnton\, Georgia – 06-17-19\n\n\nABOUT THE MISSION:\n\n\nThe family of Jack Edwin Weston has requested the Patriot Guard Riders to stand for their loved one as he stood for us. We are honored to do so. MSG (Ret) Weston was a soldier in the United States Army\, retiring from active duty after twenty two years of service. He was also a Vietnam veteran\, serving two tours. He had numerous awards and decorations\, to include the Vietnam Service Medal with Six Campaigns\, and the Bronze Star Medal. He was also a member of American Legion and the Disabled American Veterans.\n\n\nPRIMARY STAGING DETAILS: 06-17-19 \nStaging Time: 09:15 am \nRees Funeral Home\n195 N Peachtree Street\nLincolnton \, Georgia 30817\n\n\nRide Captain: \nNorm Chagnon\n774-644-7008\nplayshockey12@comcast.net\n\n\nSpecial Instructions: \nAfter the briefing we will stand a flag line as family and friends arrive for visitation until 10:45 am. After visitation we will proceed with the funeral procession to the Lincolnton City Cemetery. Upon arriving at the cemetery we will stand a flag line\, during the graveside service with military honors.\n\n\nFlags & Water:\nFlags will be provided\nIf you have large bike flags\, please bring them.\nWater will be provided.\n\n\nSubmitted By: norman chagnon \nPosition: Georgia Ride Captain \n\nNote: You do not have to own/ride a motorcycle or be a veteran to join\, and membership is Free. The only requirement is RESPECT! To subscribe to receive mission notices\, log into the National Site and click on the Members tab at the top. Select the Subscribe to PGR Missions option.\n Print This Page
URL:https://www.patriotguard.org/mission/jack-edwin-weston/
CATEGORIES:Honor Mission
END:VEVENT
END:VCALENDAR