BEGIN:VCALENDAR
VERSION:2.0
PRODID:-//Patriot Guard Riders - ECPv5.3.2.1//NONSGML v1.0//EN
CALSCALE:GREGORIAN
METHOD:PUBLISH
X-WR-CALNAME:Patriot Guard Riders
X-ORIGINAL-URL:https://www.patriotguard.org
X-WR-CALDESC:Events for Patriot Guard Riders
BEGIN:VTIMEZONE
TZID:America/New_York
BEGIN:DAYLIGHT
TZOFFSETFROM:-0500
TZOFFSETTO:-0400
TZNAME:EDT
DTSTART:20190310T070000
END:DAYLIGHT
BEGIN:STANDARD
TZOFFSETFROM:-0400
TZOFFSETTO:-0500
TZNAME:EST
DTSTART:20191103T060000
END:STANDARD
END:VTIMEZONE
BEGIN:VEVENT
DTSTART;VALUE=DATE:20190614
DTEND;VALUE=DATE:20190615
DTSTAMP:20210401T155704
CREATED:20190603T122519Z
LAST-MODIFIED:20190603T122519Z
UID:163235-1560470400-1560556799@www.patriotguard.org
SUMMARY:Jack Edward Detamore
DESCRIPTION:Honor Mission\nJack Edward Detamore \, Veteran\nUSCG – \, Korea\nRedding\, California – 06-14-19\n\n\n\n\nABOUT THE MISSION: \nHM (3) Jack Edward Detamore served honorably in the United States Coast Guard from 1953 to 1957. He was awarded the National Defense and Good Conduct Medals\n\n\nPRIMARY STAGING DETAILS: 06-14-19 \nStaging Time: 07:45  \nMcDonalds Chapel\n1275 Continental Ave\nRedding\, California 96001\n\n\nRide Captain: \nRobert V. Prosser\n10835 Hufford Ranch Road\nWhitmore\, CA 96096\n530 472-3350\nbvprosser@yahoo.com\n\n\nSpecial Instructions: \n\n\nFlags & Water:\nFlags will not be provided\nIf you have large bike flags\, please bring them.\nWater WILL NOT be provided\, please bring your own.\n\n\n\nSubmitted By: Robert Prosser \nPosition: California Assistant State Captain \n\nNote: You do not have to own/ride a motorcycle or be a veteran to join\, and membership is Free. The only requirement is RESPECT! To subscribe to receive mission notices\, log into the National Site and click on the Members tab at the top. Select the Subscribe to PGR Missions option.\n Print This Page
URL:https://www.patriotguard.org/mission/jack-edward-detamore/
CATEGORIES:Honor Mission
END:VEVENT
END:VCALENDAR