BEGIN:VCALENDAR
VERSION:2.0
PRODID:-//Patriot Guard Riders - ECPv5.3.2.1//NONSGML v1.0//EN
CALSCALE:GREGORIAN
METHOD:PUBLISH
X-WR-CALNAME:Patriot Guard Riders
X-ORIGINAL-URL:https://www.patriotguard.org
X-WR-CALDESC:Events for Patriot Guard Riders
BEGIN:VTIMEZONE
TZID:America/New_York
BEGIN:DAYLIGHT
TZOFFSETFROM:-0500
TZOFFSETTO:-0400
TZNAME:EDT
DTSTART:20190310T070000
END:DAYLIGHT
BEGIN:STANDARD
TZOFFSETFROM:-0400
TZOFFSETTO:-0500
TZNAME:EST
DTSTART:20191103T060000
END:STANDARD
END:VTIMEZONE
BEGIN:VEVENT
DTSTART;VALUE=DATE:20190528
DTEND;VALUE=DATE:20190529
DTSTAMP:20210405T053428
CREATED:20190528T093337Z
LAST-MODIFIED:20190528T093337Z
UID:162413-1559001600-1559087999@www.patriotguard.org
SUMMARY:Jack E. May
DESCRIPTION:Honor Mission\nJack E. May\, Veteran\nUSA\nWarren\, Ohio – 05-28-19\n\n\n\n\nABOUT THE MISSION: \nPfc Jack E. May\, 79\, Warren\, Ohio\, United States Army\, Cold War Era.\n\n\nPRIMARY STAGING DETAILS: 05-28-19 \nStaging Time: 11:00 a.m.\n \nCarl W. Hall Funeral Home\n533 North Park Ave.\nWarren\, Ohio 44481\n\n\nRide Captain: \nRalph Bago\, rtblkwd@aol.com \n\n\nSpecial Instructions: \nThe end of visitation will conclude our mission.  The Family may have us escort to the cemetery but that will not be decided until mission day.  Should the family decide to go to the cemetery details will be provided at the staging.\n\n\nFlags & Water:\nFlags will not be provided\nIf you have large bike flags\, please bring them.\nWater WILL NOT be provided\, please bring your own.\n\n\nSubmitted By: Patrick O’Connor \nPosition: Ohio Assistant State Captain \n\nNote: You do not have to own/ride a motorcycle or be a veteran to join\, and membership is Free. The only requirement is RESPECT! To subscribe to receive mission notices\, log into the National Site and click on the Members tab at the top. Select the Subscribe to PGR Missions option.\n Print This Page
URL:https://www.patriotguard.org/mission/jack-e-may/
CATEGORIES:Honor Mission
END:VEVENT
END:VCALENDAR