BEGIN:VCALENDAR
VERSION:2.0
PRODID:-//Patriot Guard Riders - ECPv5.6.0//NONSGML v1.0//EN
CALSCALE:GREGORIAN
METHOD:PUBLISH
X-WR-CALNAME:Patriot Guard Riders
X-ORIGINAL-URL:https://www.patriotguard.org
X-WR-CALDESC:Events for Patriot Guard Riders
BEGIN:VTIMEZONE
TZID:America/New_York
BEGIN:DAYLIGHT
TZOFFSETFROM:-0500
TZOFFSETTO:-0400
TZNAME:EDT
DTSTART:20160313T070000
END:DAYLIGHT
BEGIN:STANDARD
TZOFFSETFROM:-0400
TZOFFSETTO:-0500
TZNAME:EST
DTSTART:20161106T060000
END:STANDARD
END:VTIMEZONE
BEGIN:VEVENT
DTSTART;TZID=America/New_York:20160818T090000
DTEND;TZID=America/New_York:20160818T110000
DTSTAMP:20210511T192018
CREATED:20160818T130000Z
LAST-MODIFIED:20191201T143606Z
UID:409914-1471510800-1471518000@www.patriotguard.org
SUMMARY:Jack Carson\, 77\, USA Veteran
DESCRIPTION:Jack joined the U.S.Army in 1955 at the age of 16. He got caught being under age after a few short months and was discharged. Shortly after that Jack joined the U.S. Navy were he served as an air crewman aboard the USS Saratoga and the USS Hornet\, and later as an Aviation Structural Mechanic. After serving in the Navy from 1956-1961\, Jack was discharged as a Petty Officer Third Class. \nJack was a resident of Congress\, AZ at the time of his passing. Jack is survived by his wife\, Nancy\, two sons and two step-daughters.   \nThe PGR has been asked by the family to have a flag line at his service on Thursday\, August 18\, 2016 at 11 am at the Prescott National Cemetery.\n\n\n\n\nDATE: Thursday\, August 18\, 2016 \nSTAGING:\n1000 hours\nPrescott National Cemetery\n500 SR 89\nPrescott\, AZ 86301\nMap Link: http://tinyurl.com/juvcgx7 \nBRIEFING:  1030 hours \nFLAG LINE: 1045 hours \nFlag line only. Road guards are not needed.  \nRIDE CAPTAIN:\nJohn Moffitt\n928-713-0856 \nprescottbikers@hotmail.com \nFLAG PERSON/SUPPORT VEHICLE:\nGary Sheldon
URL:https://www.patriotguard.org/mission/jack-carson-77-usa-veteran/
CATEGORIES:Archive
END:VEVENT
END:VCALENDAR