BEGIN:VCALENDAR
VERSION:2.0
PRODID:-//Patriot Guard Riders - ECPv5.3.2.1//NONSGML v1.0//EN
CALSCALE:GREGORIAN
METHOD:PUBLISH
X-WR-CALNAME:Patriot Guard Riders
X-ORIGINAL-URL:https://www.patriotguard.org
X-WR-CALDESC:Events for Patriot Guard Riders
BEGIN:VTIMEZONE
TZID:America/New_York
BEGIN:DAYLIGHT
TZOFFSETFROM:-0500
TZOFFSETTO:-0400
TZNAME:EDT
DTSTART:20190310T070000
END:DAYLIGHT
BEGIN:STANDARD
TZOFFSETFROM:-0400
TZOFFSETTO:-0500
TZNAME:EST
DTSTART:20191103T060000
END:STANDARD
END:VTIMEZONE
BEGIN:VEVENT
DTSTART;VALUE=DATE:20190812
DTEND;VALUE=DATE:20190814
DTSTAMP:20210402T071749
CREATED:20190810T053836Z
LAST-MODIFIED:20190810T053836Z
UID:169969-1565568000-1565740799@www.patriotguard.org
SUMMARY:Jack Bustos
DESCRIPTION:Honor Mission\nJack Bustos\, Veteran\nUSN\nSan Antonio\, Texas – 08-12-19\n\n\n\nABOUT THE MISSION: \nThe family of Mr. Jack Bustos\, a US Navy Veteran\, requests the presence and participation of the Patriot Guard Riders at the funeral service\, LEO supported procession\, and graveside rendering of military honors of their loved one. Mr. Jack Bustos was in the US Navy from 1977 to 1981. He was on the USS David R. Ray and he was a Petty Officer Second Class\, E5 \, Yeoman. He was Honorably Discharged from the USS Dubuque in San Diego\, California.\n\n\nPRIMARY STAGING DETAILS: 08-12-19 \nStaging Time: 6:00 pm  \nMission Park Funeral Chapels South\n1700 Military Dr\nSan Antonio\, Texas 78214\nhttps://goo.gl/maps/7H47YPZNruv\n\n\nRide Captain: \nMichael “Twin Tower” Roberts\nmbnroberts@me.com\n\n\nSpecial Instructions: \nStaging: 06:00 PM\nBriefing: 06:15 PM\nService: 07:00 PM\n\n\nFlags & Water:\nFlags will be provided\nLarge Bike Flags will NOT be needed.\nWater will be provided.\n\nSTAGING #2 DETAILS: 08-13-19 \nStaging Time: 11:45 am  \nMission Park Funeral Chapels South\n1700 Military Dr\nSan Antonio\, Texas 78214\nhttps://goo.gl/maps/7H47YPZNruv\n\n\nRide Captain: \nBob “Pizza Man” Johnson\nbobtxpgr@gmail.com\n\n\nSpecial Instructions: \nStaging: 11:45 AM\nBriefing: 12:00 PM\nHonor Line: 12:30 PM\nKSU: 12:45 PM\nInterment: 01:30 PM\nFort Sam Houston National Cemeter\n1520 Harry Wurzbach Rd\nSan Antonio\, TX 78209\nhttps://goo.gl/maps/ThiWmPirmtr\n\n\nFlags & Water:\nFlags will be provided\nIf you have large bike flags\, please bring them.\nWater will be provided.\n\n\nSubmitted By: Lisa Menard \nPosition: Texas Ride Captain \n\nNote: You do not have to own/ride a motorcycle or be a veteran to join\, and membership is Free. The only requirement is RESPECT! To subscribe to receive mission notices\, log into the National Site and click on the Members tab at the top. Select the Subscribe to PGR Missions option.\n Print This Page
URL:https://www.patriotguard.org/mission/jack-bustos/
CATEGORIES:Honor Mission
END:VEVENT
END:VCALENDAR