BEGIN:VCALENDAR
VERSION:2.0
PRODID:-//Patriot Guard Riders - ECPv5.3.2.1//NONSGML v1.0//EN
CALSCALE:GREGORIAN
METHOD:PUBLISH
X-WR-CALNAME:Patriot Guard Riders
X-ORIGINAL-URL:https://www.patriotguard.org
X-WR-CALDESC:Events for Patriot Guard Riders
BEGIN:VTIMEZONE
TZID:America/New_York
BEGIN:DAYLIGHT
TZOFFSETFROM:-0500
TZOFFSETTO:-0400
TZNAME:EDT
DTSTART:20190310T070000
END:DAYLIGHT
BEGIN:STANDARD
TZOFFSETFROM:-0400
TZOFFSETTO:-0500
TZNAME:EST
DTSTART:20191103T060000
END:STANDARD
END:VTIMEZONE
BEGIN:VEVENT
DTSTART;VALUE=DATE:20190718
DTEND;VALUE=DATE:20190720
DTSTAMP:20210403T203820
CREATED:20190717T000038Z
LAST-MODIFIED:20190717T000038Z
UID:167754-1563408000-1563580799@www.patriotguard.org
SUMMARY:Jack Alan Jones
DESCRIPTION:Honor Mission\nJack Alan Jones\, Veteran\nUSN\, Vietnam\nBrooks\, Kentucky – 07-18-19\n\n\n\n\nABOUT THE MISSION: \n Jack A. Jones a US Navy Veteran of the Vietnam War  .\n\n\nPRIMARY STAGING DETAILS: 07-18-19 \nStaging Time: 12:45 pm  \nSchoppenhorst\,Underwood and Brooks Funeral Home\n4895 N. Preston Hwy\nBrooks\, Kentucky 40165\n\n\nRide Captain: \nTom Baker\n502-271-8955\n\n\nSpecial Instructions: \nFlag line will be at the Funeral Home from 1:00 am till 6:00pm\n\nFlags & Water:\nFlags will be provided\nLarge Bike Flags will NOT be needed.\nWater WILL NOT be provided\, please bring your own.\n\nSTAGING #2 DETAILS: 07-19-19 \nStaging Time: 10:45 am  \nSchoppenhorst Underwood and Brooks\n4895 N. Preston Hwy\nBrooks\, Kentucky 40165\n\n\nRide Captain: \nTom Baker\n502-271-8955\n\n\nSpecial Instructions: \nVisitation will start at 11:00 am and service at 12:00 pm . Escort to follow service to Cave Hill Cemetery.\n\nFlags & Water:\nFlags will be provided\nIf you have large bike flags\, please bring them.\nWater WILL NOT be provided\, please bring your own.\n\n\n\nSubmitted By: Thomas Baker \nPosition: Kentucky Ride Captain \n\nNote: You do not have to own/ride a motorcycle or be a veteran to join\, and membership is Free. The only requirement is RESPECT! To subscribe to receive mission notices\, log into the National Site and click on the Members tab at the top. Select the Subscribe to PGR Missions option.\n Print This Page
URL:https://www.patriotguard.org/mission/jack-alan-jones/
CATEGORIES:Honor Mission
END:VEVENT
END:VCALENDAR