BEGIN:VCALENDAR
VERSION:2.0
PRODID:-//Patriot Guard Riders - ECPv5.6.0//NONSGML v1.0//EN
CALSCALE:GREGORIAN
METHOD:PUBLISH
X-WR-CALNAME:Patriot Guard Riders
X-ORIGINAL-URL:https://www.patriotguard.org
X-WR-CALDESC:Events for Patriot Guard Riders
BEGIN:VTIMEZONE
TZID:America/New_York
BEGIN:DAYLIGHT
TZOFFSETFROM:-0500
TZOFFSETTO:-0400
TZNAME:EDT
DTSTART:20160313T070000
END:DAYLIGHT
BEGIN:STANDARD
TZOFFSETFROM:-0400
TZOFFSETTO:-0500
TZNAME:EST
DTSTART:20161106T060000
END:STANDARD
END:VTIMEZONE
BEGIN:VEVENT
DTSTART;TZID=America/New_York:20160601T090000
DTEND;TZID=America/New_York:20160601T110000
DTSTAMP:20210513T185323
CREATED:20160601T130000Z
LAST-MODIFIED:20191201T145530Z
UID:411687-1464771600-1464778800@www.patriotguard.org
SUMMARY:J. P. Haskins\, USA
DESCRIPTION:Please note that due to ongoing OPSEC concerns\, mission details are not shown in this posting. All specific details and updates have been sent to members directly via their e-mail address on file. \nFellow PGR Members: \nWe have been requested to stand in Honor of U.S. Army Korean War Veteran J. P. Haskins. \nMr. Haskins served from 1951-1953\, and was assigned to Company A\, 84th Engineer Construction Battalion\, APO 301\, Korea. His MOS was Truck Driver\, Heavy.  Mr. Haskins was Honorably Discharged on 14 March\, 1953 with the rank of PFC (T.) \nFor his Service to our Nation\, PFC Haskins was awarded:  National Defense Service Medal\, Korean Service Medal w/3 Bronze Service Stars\, United Nations Service Medal\, and 2 Overseas Bars. \nWhen/Where:\nWednesday\, June 1\, 2016 \nBuffalo\, NY  14204 \nLRC:\nTBD \nServices at the funeral home followed by dignified transfer and escort to Forest Lawn Cemetery Field of Valor for interment with full military honors. \nPlease do whatever you are able to help us Honor the Korean War Service of J.P. Haskins\, and to show our support to his loving family. Please arrive on time with a clean 3×5 American Flag\, or a US Army flag.  Dress for the weather\, and ensure your bike flags are properly placed and securely attached. \n—\nDon Higgins\ngladiator6988@hotmail.com
URL:https://www.patriotguard.org/mission/j-p-haskins-usa/
CATEGORIES:Archive
END:VEVENT
END:VCALENDAR