BEGIN:VCALENDAR
VERSION:2.0
PRODID:-//Patriot Guard Riders - ECPv5.6.0//NONSGML v1.0//EN
CALSCALE:GREGORIAN
METHOD:PUBLISH
X-WR-CALNAME:Patriot Guard Riders
X-ORIGINAL-URL:https://www.patriotguard.org
X-WR-CALDESC:Events for Patriot Guard Riders
BEGIN:VTIMEZONE
TZID:America/New_York
BEGIN:DAYLIGHT
TZOFFSETFROM:-0500
TZOFFSETTO:-0400
TZNAME:EDT
DTSTART:20160313T070000
END:DAYLIGHT
BEGIN:STANDARD
TZOFFSETFROM:-0400
TZOFFSETTO:-0500
TZNAME:EST
DTSTART:20161106T060000
END:STANDARD
END:VTIMEZONE
BEGIN:VEVENT
DTSTART;TZID=America/New_York:20160808T090000
DTEND;TZID=America/New_York:20160808T110000
DTSTAMP:20210512T052515
CREATED:20160808T130000Z
LAST-MODIFIED:20191201T143924Z
UID:410218-1470646800-1470654000@www.patriotguard.org
SUMMARY:Ivan C Shoup\, USN
DESCRIPTION:We have been invited to attend the funeral of SH2 Ivan C Shoup\, Veteran\, U.S. Navy\, Korea \nInterment:1000(10am) 08 Aug at Veterans Memorial Cemetery \n                                                      2830 Riverside Parkway\n                                                      Grand Junction\, CO\n\nStage 09:15am at Shelter Area\n\nRide Captain: Barry Force\n \nArt Edwards\nharleyroadk@yahoo.com
URL:https://www.patriotguard.org/mission/ivan-c-shoup-usn/
CATEGORIES:Archive
END:VEVENT
END:VCALENDAR