BEGIN:VCALENDAR
VERSION:2.0
PRODID:-//Patriot Guard Riders - ECPv5.6.0//NONSGML v1.0//EN
CALSCALE:GREGORIAN
METHOD:PUBLISH
X-WR-CALNAME:Patriot Guard Riders
X-ORIGINAL-URL:https://www.patriotguard.org
X-WR-CALDESC:Events for Patriot Guard Riders
BEGIN:VTIMEZONE
TZID:America/New_York
BEGIN:DAYLIGHT
TZOFFSETFROM:-0500
TZOFFSETTO:-0400
TZNAME:EDT
DTSTART:20160313T070000
END:DAYLIGHT
BEGIN:STANDARD
TZOFFSETFROM:-0400
TZOFFSETTO:-0500
TZNAME:EST
DTSTART:20161106T060000
END:STANDARD
END:VTIMEZONE
BEGIN:VEVENT
DTSTART;TZID=America/New_York:20160616T090000
DTEND;TZID=America/New_York:20160616T110000
DTSTAMP:20210513T172257
CREATED:20160616T130000Z
LAST-MODIFIED:20191201T145107Z
UID:411291-1466067600-1466074800@www.patriotguard.org
SUMMARY:Ivan Bernard Hardaway
DESCRIPTION:The family of PO1 Ivan Bernard Hardaway has asked the Patriot Guard to stand in honor of his service to this nation. We are pleased to do so. \nHe enlisted the first time in Atlanta\, GA.  In 1976 and served until 1980. He enlisted again in 1980 and served for until 1985. He was stationed aboard the USS Kitty Hawk for two years at San Diego\, CA. He is survived by his wife and two children. \nWe will stand a one-hour flag line at the church prior to funeral services and then assist in the escort to his final resting place. \nStaging:\n11:45 am\, Thursday 16 June 2016\nEast Mount Sinai Baptist Church\n100 Washington Street\nBarnesville\, GA 30204 \nRCIT\nLee “vulcangunner” Love\nVulcangunner2@windstream.net\n478-952-2097 \nFlag Support:\nCarrie “Hollywood” Poole\nmarjesick3@aol.com\n770-478-7053
URL:https://www.patriotguard.org/mission/ivan-bernard-hardaway/
CATEGORIES:Archive
END:VEVENT
END:VCALENDAR