BEGIN:VCALENDAR
VERSION:2.0
PRODID:-//Patriot Guard Riders - ECPv5.3.2.1//NONSGML v1.0//EN
CALSCALE:GREGORIAN
METHOD:PUBLISH
X-WR-CALNAME:Patriot Guard Riders
X-ORIGINAL-URL:https://www.patriotguard.org
X-WR-CALDESC:Events for Patriot Guard Riders
BEGIN:VTIMEZONE
TZID:America/New_York
BEGIN:DAYLIGHT
TZOFFSETFROM:-0500
TZOFFSETTO:-0400
TZNAME:EDT
DTSTART:20190310T070000
END:DAYLIGHT
BEGIN:STANDARD
TZOFFSETFROM:-0400
TZOFFSETTO:-0500
TZNAME:EST
DTSTART:20191103T060000
END:STANDARD
END:VTIMEZONE
BEGIN:VEVENT
DTSTART;VALUE=DATE:20190705
DTEND;VALUE=DATE:20190706
DTSTAMP:20210403T180702
CREATED:20190703T210856Z
LAST-MODIFIED:20190703T210856Z
UID:166497-1562284800-1562371199@www.patriotguard.org
SUMMARY:Isaiah Jimmie Villanueva
DESCRIPTION:Honor Mission\nIsaiah Jimmie Villanueva\nANG –\nAlbuquerque\, New Mexico – 07-05-19\n\n\n\nABOUT THE MISSION: \nThe Patriot Guard Riders of New Mexico have been invited to honor our fallen brother Isaiah Villanueva. Isaiah served his country with pride and honor in the 601st Transportation Detachment\, 372nd Quartermaster Battalion\, New Mexico National Guard\, where he achieved the rank of Specialist.\n\n\nPRIMARY STAGING DETAILS: 07-05-19 \nStaging Time: 08:45 AM\n \nNew Beginnings Church\n3601 Montgomery Blvd Ne\nAlbuquerque\, New Mexico 87110\n\n\nRide Captain: \nDan Rambow\ndan48041@gmail.com\n505-235-8589\n\nAsst: Trevor Folks – FEAUX@prodigy.net – 505-804-6481\n\n\nSpecial Instructions: \nBriefing:09:20 am\nFlag Line:09:30 am\nKSU: 12:30 pm +/- for escort to: Sunset Memorial Park\, 924 Menaul Blvd NE\, Albuquerque\, NM 87107.\n\n\nFlags & Water:\nFlags will be provided\nLarge Bike Flags will NOT be needed.\nWater will be provided.\n\n\n\nSubmitted By: Daniel Rambow \nPosition: New Mexico Ride Captain \n\nNote: You do not have to own/ride a motorcycle or be a veteran to join\, and membership is Free. The only requirement is RESPECT! To subscribe to receive mission notices\, log into the National Site and click on the Members tab at the top. Select the Subscribe to PGR Missions option.\n Print This Page
URL:https://www.patriotguard.org/mission/isaiah-jimmie-villanueva/
CATEGORIES:Honor Mission
END:VEVENT
END:VCALENDAR