BEGIN:VCALENDAR
VERSION:2.0
PRODID:-//Patriot Guard Riders - ECPv5.3.2.1//NONSGML v1.0//EN
CALSCALE:GREGORIAN
METHOD:PUBLISH
X-WR-CALNAME:Patriot Guard Riders
X-ORIGINAL-URL:https://www.patriotguard.org
X-WR-CALDESC:Events for Patriot Guard Riders
BEGIN:VTIMEZONE
TZID:America/New_York
BEGIN:DAYLIGHT
TZOFFSETFROM:-0500
TZOFFSETTO:-0400
TZNAME:EDT
DTSTART:20190310T070000
END:DAYLIGHT
BEGIN:STANDARD
TZOFFSETFROM:-0400
TZOFFSETTO:-0500
TZNAME:EST
DTSTART:20191103T060000
END:STANDARD
END:VTIMEZONE
BEGIN:VEVENT
DTSTART;VALUE=DATE:20190725
DTEND;VALUE=DATE:20190727
DTSTAMP:20210403T183122
CREATED:20190724T194547Z
LAST-MODIFIED:20190724T194547Z
UID:168692-1564012800-1564185599@www.patriotguard.org
SUMMARY:Irvin Boatwright
DESCRIPTION:Honor Mission\nIrvin Boatwright\, Retired\nUSA USAF – Korea\, Vietnam\nRossville\, Georgia – 07-25-19\n\n\n\nABOUT THE MISSION: \nThe family of MSgt. (E-8) Irvin Boatwright (Ret)\, 84\, USAF/US Army\, Korea/Vietnam war\, of Rossville\, GA has invited the Patriot Guard Riders to honor their loved one with a silent flagline and escort to his final place of rest. It will be our honor to do so. Mr. Boatwright\, 4/22/35 to 7/22/19\, served his country honorably for 26 years before returning to lead many ROTC programs in the area. Mr. Boatwright not only loved his country in words\, he walked it daily. He fought the good fight. Mr. Boatwright stood for us and now it is our time to stand for him.\n\n\nPRIMARY STAGING DETAILS: 07-25-19 \nStaging Time: 2:30 PM\n \nLane Funeral Home South Crest Chapel\n833 Chickamagua Ave.\nRossville\, Georgia 30741\n\n\nRide Captain: \nScott Hall\nCell:706-463-1247\n\n\nSpecial Instructions: \nVisitation : Thursday\, 3-8 PM\n\n\nFlags & Water:\nFlags will be provided\nLarge Bike Flags will NOT be needed.\nWater WILL NOT be provided\, please bring your own.\n\nSTAGING #2 DETAILS: 07-26-19 \nStaging Time: 11:30 AM\n \nLane Funeral Home South Crest Chapel\n833 Chickamagua Ave.\nRossville\, Georgia 30741\n\n\nRide Captain: \nScott Hall\n706-463-1247\n\n\nSpecial Instructions: \nVisitation/Escort: 12-1 PM (funeral)\n\n\nFlags & Water:\nFlags will be provided\nIf you have large bike flags\, please bring them.\nWater will be provided.\n\nSTAGING #3 DETAILS: 07-26-19 \nStaging Time: 1:30 PM\n \nTennessee Georgia Memorial Gardens\n724 Hogan Rd.\nRossville\, Georgia 30741\n\n\nRide Captain: \nScott Hall\nCell: 706-463-1247\n\n\nSpecial Instructions: \nService: 1:30-2:30 PM\n\n\nFlags & Water:\nFlags will be provided\nIf you have large bike flags\, please bring them.\nWater WILL NOT be provided\, please bring your own.\n\n\n\nSubmitted By: Thonda Farmer \nPosition: Tennessee Assistant State Captain \n\nNote: You do not have to own/ride a motorcycle or be a veteran to join\, and membership is Free. The only requirement is RESPECT! To subscribe to receive mission notices\, log into the National Site and click on the Members tab at the top. Select the Subscribe to PGR Missions option.\n Print This Page
URL:https://www.patriotguard.org/mission/irvin-boatwright/
CATEGORIES:Honor Mission
END:VEVENT
END:VCALENDAR