BEGIN:VCALENDAR
VERSION:2.0
PRODID:-//Patriot Guard Riders - ECPv5.3.2.1//NONSGML v1.0//EN
CALSCALE:GREGORIAN
METHOD:PUBLISH
X-WR-CALNAME:Patriot Guard Riders
X-ORIGINAL-URL:https://www.patriotguard.org
X-WR-CALDESC:Events for Patriot Guard Riders
BEGIN:VTIMEZONE
TZID:America/New_York
BEGIN:DAYLIGHT
TZOFFSETFROM:-0500
TZOFFSETTO:-0400
TZNAME:EDT
DTSTART:20170312T070000
END:DAYLIGHT
BEGIN:STANDARD
TZOFFSETFROM:-0400
TZOFFSETTO:-0500
TZNAME:EST
DTSTART:20171105T060000
END:STANDARD
END:VTIMEZONE
BEGIN:VEVENT
DTSTART;TZID=America/New_York:20170928T101500
DTEND;TZID=America/New_York:20170928T121500
DTSTAMP:20210404T160620
CREATED:20170928T141500Z
LAST-MODIFIED:20191201T032633Z
UID:329927-1506593700-1506600900@www.patriotguard.org
SUMMARY:Ira Hunter\, Veteran\, USA
DESCRIPTION:Ira Hunter\, Veteran\nUSA\nLexington\, Missouri – 28 Sep 2017\n\n\n[HR][/HR]\nABOUT THE MISSION: \n\nPFC Ira Hunter proudly served his country for three years\, receiving  5 Bronze Stars and multiple Purple Hearts.\n\n\nPRIMARY STAGING DETAILS:  28 Sep 2017\nPrimary Staging Time: 10:15 A.M. \n\nSecond Baptist Church\n1201 Main Street\nLexington\, Missouri – 64067\n\n\nRide Captain: \n\nZene “Z-Man: Malinski\n816-820-6136\n\n\nSpecial Instructions: \n\nStage 10:15\nService 11:00\nEscort to Missouri Veteran Cemetery – Higginsville 2:00 appointment. \nFlag Support: Jim Bailey\n \n\nFlags & Water: \n\nFlags Will Be Provided\nIf you have large bike flags\, please bring them.\nWater WILL NOT be provided\, please bring your own.\n\n\nSubmitted By: Zene Malinski\nPosition: Ride Captain\n[HR][/HR]Note:\nYou do not have to own/ride a motorcycle or be a Veteran to join and membership is Free. The only requirement is RESPECT! To join\, simply go to www.PatriotGuard.org and click on Register. Membership is Free. \nTo subscribe to receive mission notices\, log into the National Site and click on the Mission Tab at the top. Select the Subscribe to Missions option.
URL:https://www.patriotguard.org/mission/ira-hunter-veteran-usa/
END:VEVENT
END:VCALENDAR