BEGIN:VCALENDAR
VERSION:2.0
PRODID:-//Patriot Guard Riders - ECPv5.3.2.1//NONSGML v1.0//EN
CALSCALE:GREGORIAN
METHOD:PUBLISH
X-WR-CALNAME:Patriot Guard Riders
X-ORIGINAL-URL:https://www.patriotguard.org
X-WR-CALDESC:Events for Patriot Guard Riders
BEGIN:VTIMEZONE
TZID:America/New_York
BEGIN:DAYLIGHT
TZOFFSETFROM:-0500
TZOFFSETTO:-0400
TZNAME:EDT
DTSTART:20130310T070000
END:DAYLIGHT
BEGIN:STANDARD
TZOFFSETFROM:-0400
TZOFFSETTO:-0500
TZNAME:EST
DTSTART:20131103T060000
END:STANDARD
END:VTIMEZONE
BEGIN:VEVENT
DTSTART;TZID=America/New_York:20130426T090000
DTEND;TZID=America/New_York:20130426T110000
DTSTAMP:20210403T111709
CREATED:20130426T130000Z
LAST-MODIFIED:20191201T120719Z
UID:386637-1366966800-1366974000@www.patriotguard.org
SUMMARY:Inhong "Ben" Hur\, USA Veteran
DESCRIPTION:The family of  Inhong “Ben” Hur has invited us to stand for Ben as he is laid to rest on Friday\, April 26\, 2013.\nBen was a Vietnam Veteran and a member of the Republic of Korea (ROK) Marines and later a Staff Sergeant in the US ARMY. \nThere will be a memorial service at the First United Methodist Church\n103 Monmouth Road\nOakhurst\, NJ 07755\nat 10:00 am – Flag line should be in place by 9:30. \nFollowing the service\, there will be a reception at the church. We should be departing around noon for the VA cemetery for a 1:30 military service.\nAt this time\, we are not sure if we will be going to the VA cemetery in Wrightstown or Brigadier General William C. Doyle Memorial Cemetery in Arneytown. \nRC: Don Klein – donald.klein@verizon.net\n908-334-7719
URL:https://www.patriotguard.org/mission/inhong-ben-hur-usa-veteran/
CATEGORIES:Archive
END:VEVENT
END:VCALENDAR