BEGIN:VCALENDAR
VERSION:2.0
PRODID:-//Patriot Guard Riders - ECPv5.3.2.1//NONSGML v1.0//EN
CALSCALE:GREGORIAN
METHOD:PUBLISH
X-WR-CALNAME:Patriot Guard Riders
X-ORIGINAL-URL:https://www.patriotguard.org
X-WR-CALDESC:Events for Patriot Guard Riders
BEGIN:VTIMEZONE
TZID:America/New_York
BEGIN:DAYLIGHT
TZOFFSETFROM:-0500
TZOFFSETTO:-0400
TZNAME:EDT
DTSTART:20210314T070000
END:DAYLIGHT
BEGIN:STANDARD
TZOFFSETFROM:-0400
TZOFFSETTO:-0500
TZNAME:EST
DTSTART:20211107T060000
END:STANDARD
END:VTIMEZONE
BEGIN:VEVENT
DTSTART;VALUE=DATE:20210405
DTEND;VALUE=DATE:20210406
DTSTAMP:20210405T171010
CREATED:20210403T000644Z
LAST-MODIFIED:20210403T000644Z
UID:573687-1617580800-1617667199@www.patriotguard.org
SUMMARY:Infinity Hospice Care "We Honor Veterans" Bernell Huston
DESCRIPTION:HOTH Mission\nInfinity Hospice Care “We Honor Veterans” Bernell Huston \, Veteran\nUSA –\nChandler\, Arizona – 04-05-21\n\n\n\nABOUT THE MISSION: \nThis is a We Honor Veterans Ceremony honoring United States Army veteran Bernell Edwin Huston. Bernell is a US Army veteran\, he was inducted on October 4\, 1956 and earned the rank of SP5 on May 29\, 1958. His MOS was 716.10 Personnel Specialist\, his last duty station was with the Third US Army. Sergeant Bernell served two years and was honorably discharged on October 3\, 1958. After serving his active duty he was transferred to the USAR till October 3\, 1962. Bernell received the Good Conduct Medal.\n\n\nPRIMARY STAGING DETAILS: 04-05-21 \nStaging Time: 3:45  \nIronwood Golf Course\n550 W. Champagne Dr.\nChandler\, Arizona 85248\n\n\nRide Captain: \nDavid Abbott  605-661-6233   dlabbott99@hotmail.com\n\nFlag Captain: Dave Schultz\n\n\nSpecial Instructions: \nMeet RC and FC at Ironwood Parking Lot  We will meet at this public location per OPSEC\n4:00 PM Briefing\n4:15 PM KSU to residence\n4:30 PM set flag line\n\nAll members are required to carry a face mask/cloth covering at all times during the mission. There are still partners(funeral homes\, cemeteries\, churches) that require masks to be worn. There are no exceptions. If\, in the past week\, you have tested positive for COVID-19\, or you have been in contact with someone who has tested positive for COVID-19 in the past week\, immediately notify the State Captain or Assistant State Captain. Continue practicing social distancing at staging locations\, standing the flag line\, and at the support vehicle. Maintain at least15 feet separation from all family members\, cemetery personnel\, Honor Guard\, funeral home staff\, clergy\, etc. If you feel ill or have a temperature\, please stay home until you improve. Wash your hands before\, during (as practical)\, and after the mission. Water will be provided by the flag support person and passed out only by that person. No snacks will be provided by flag support and members should not bring any to share either.\n\n\nFlags & Water:\nFlags will be provided\nIf you have large bike flags\, please bring them.\nWater will be provided.\n\nSubmitted By: Sheri Hanson \nPosition: Arizona HOTH Coordinator \n\nNote: You do not have to own/ride a motorcycle or be a veteran to join\, and membership is Free. The only requirement is RESPECT! To subscribe to receive mission notices\, log into the National Site and click on the Members tab at the top. Select the Subscribe to PGR Missions option.\n Print This Page
URL:https://www.patriotguard.org/mission/infinity-hospice-care-we-honor-veterans-bernell-huston/
CATEGORIES:HOTH Mission
END:VEVENT
END:VCALENDAR