BEGIN:VCALENDAR
VERSION:2.0
PRODID:-//Patriot Guard Riders - ECPv5.3.2.1//NONSGML v1.0//EN
CALSCALE:GREGORIAN
METHOD:PUBLISH
X-WR-CALNAME:Patriot Guard Riders
X-ORIGINAL-URL:https://www.patriotguard.org
X-WR-CALDESC:Events for Patriot Guard Riders
BEGIN:VTIMEZONE
TZID:America/New_York
BEGIN:DAYLIGHT
TZOFFSETFROM:-0500
TZOFFSETTO:-0400
TZNAME:EDT
DTSTART:20190310T070000
END:DAYLIGHT
BEGIN:STANDARD
TZOFFSETFROM:-0400
TZOFFSETTO:-0500
TZNAME:EST
DTSTART:20191103T060000
END:STANDARD
END:VTIMEZONE
BEGIN:VEVENT
DTSTART;VALUE=DATE:20190425
DTEND;VALUE=DATE:20190426
DTSTAMP:20210404T104156
CREATED:20190424T151158Z
LAST-MODIFIED:20190424T151311Z
UID:158269-1556150400-1556236799@www.patriotguard.org
SUMMARY:Hugh M. Bell\, Jr.
DESCRIPTION:Honor Mission\nHugh M. Bell\, Jr.  Veteran\nUSA – Vietnam\nLeavenworth\, Kansas – 04-25-19\n\n\n\nABOUT THE MISSION: \nHugh M. Bell\, Jr. served honorably in the United States Army for twenty years and eleven days. During his service he was awarded The National Defense Service Medal; the Good Conduct Medal\, 3d Award; Army Commendation Medal w/OLC; Armed Forces Expeditionary Medal (Korea); Vietnam Service Medal; Vietnam Campaign Medal w/”60″ device; RVN Gallantry Cross w/Palm\, and the Air Medal. During his tour in Vietnam we has awarded the Bronze Star Medal and the Combat Infantryman Badge.\n\n\nPRIMARY STAGING DETAILS: 04-25-19 \nStaging Time: 09:30 am  \nDavis Funeral Home\n531 Shawnee Street\nLeavenworth\, Kansas 66048\n\n\nRide Captain: \nRon “Grumpy” Wurtele\nrwurtele@kc.rr.com\n(913) 683-4652\n\n\nSpecial Instructions: \nRiders brief at 9:30 A.M. and stand flag line during visitation from 10:00 to 11:00 A.M. Depart funeral home at approximately 11:10 A.M. and escort to Mount Muncie Cemetery\, 1500 North 8th Street\, Lansing KS.\n\n\nFlags & Water:\nFlags will be provided\nIf you have large bike flags\, please bring them.\nWater WILL NOT be provided\, please bring your own.\n\n\nSubmitted By: Ronald Wurtele \nPosition: Kansas Ride Captain \n\nNote: You do not have to own/ride a motorcycle or be a veteran to join\, and membership is Free. The only requirement is RESPECT! To subscribe to receive mission notices\, log into the National Site and click on the Members tab at the top. Select the Subscribe to PGR Missions option.\n Print This Page
URL:https://www.patriotguard.org/mission/hugh-m-bell-jr/
CATEGORIES:Honor Mission
END:VEVENT
END:VCALENDAR