BEGIN:VCALENDAR
VERSION:2.0
PRODID:-//Patriot Guard Riders - ECPv5.3.2.1//NONSGML v1.0//EN
CALSCALE:GREGORIAN
METHOD:PUBLISH
X-WR-CALNAME:Patriot Guard Riders
X-ORIGINAL-URL:https://www.patriotguard.org
X-WR-CALDESC:Events for Patriot Guard Riders
BEGIN:VTIMEZONE
TZID:America/New_York
BEGIN:DAYLIGHT
TZOFFSETFROM:-0500
TZOFFSETTO:-0400
TZNAME:EDT
DTSTART:20190310T070000
END:DAYLIGHT
BEGIN:STANDARD
TZOFFSETFROM:-0400
TZOFFSETTO:-0500
TZNAME:EST
DTSTART:20191103T060000
END:STANDARD
END:VTIMEZONE
BEGIN:VEVENT
DTSTART;VALUE=DATE:20190727
DTEND;VALUE=DATE:20190728
DTSTAMP:20210403T190418
CREATED:20190719T215356Z
LAST-MODIFIED:20190719T215356Z
UID:167715-1564185600-1564271999@www.patriotguard.org
SUMMARY:Hubert Ellis Brainard\, Jr.
DESCRIPTION:Honor Mission\nHubert Ellis Brainard\, Jr.\, Retired\nUSN\, USNR – WWII\, Vietnam\nOak Harbor\, Washington – 07-27-19\n\n\n\nABOUT THE MISSION: \nLadies and Gentlemen of the Patriot Guard Riders\, we have been invited by the family of Hubert Ellis Brainard\, Jr.\, LCDR US Navy Retired\, to stand and honor his service. LCDR Ellis first served his country during WWII; Enlisting at 17 years old serving as a Maintenance Technician and then in Air Traffic Control. During his service and reservist duties he attended college and upon completion\, received a Commission in 1957. LCDR Ellis was a Pilot and Navigator during the rest of his career. Flying both the A-3 Whale and A-6 Intruder\, and after deployments to Vietnam LCDR Ellis retired from the Navy in 1971\, with a total of 30 years\, 1 month and 29 days of total service to our Country. During his career he was awarded the following: Good Conduct Medal\, Air Medal\, Navy Unit Commendation Medal\, American Defense Medal\, American Campaign Medal\, Asiatic Pacific Campaign Medal\, National Defense Service Medal\, World War II Victory Medal\, Vietnam Service Medal\, Vietnam Campaign Medal\, Vietnam Meritorious Unit Commendation with Gallantry Cross\, Pilot/Navigator Wings. LCDR Ellis was extremely proud of his service and was a very patriotic man. LCDR Ellis’s daughter and possibly both sons will be in attendance. Please join us in honoring a true American Hero and a member of our Greatest Generation as we lay him to rest. There will be a Navy Honor Guard and Rifle Squad.\n\n\nPRIMARY STAGING DETAILS: 07-27-19 \nStaging Time: 11:15 AM\n \nSaar’s Market\n32199 WA – 20\nOak Harbor\, Washington 98277\n\n\nRide Captain: \nErik “Big E” Eisenberg\nLj45flight@yahoo.com\n360-224-8998\n\nSV: CathyLee “Hotwheelz” Ryan\, hotwheelz65@gmail.com\, 206-380-9429\n\n\nSpecial Instructions: \nWeather for Oak Harbor is forecast to be in the upper 60’s.\nCages always welcome.\nAlso\, this is a Saturday riding to Whidbey Island; traffic on a Summer weekend at this time is typically heavy and can be congested. If taking the ferry making a reservation could be a good idea and allow extra time. (https://secureapps.wsdot.wa.gov/Ferries/Reservations/Vehicle/default.aspx)\n\n\nFlags & Water:\nFlags will be provided\nIf you have large bike flags\, please bring them.\nWater will be provided.\n\n\n\nSubmitted By: Sabrina Brown \nPosition: Washington State Captain \n\nNote: You do not have to own/ride a motorcycle or be a veteran to join\, and membership is Free. The only requirement is RESPECT! To subscribe to receive mission notices\, log into the National Site and click on the Members tab at the top. Select the Subscribe to PGR Missions option.\n Print This Page
URL:https://www.patriotguard.org/mission/hubert-ellis-brainard-jr/
CATEGORIES:Honor Mission
END:VEVENT
END:VCALENDAR