BEGIN:VCALENDAR
VERSION:2.0
PRODID:-//Patriot Guard Riders - ECPv5.3.2.1//NONSGML v1.0//EN
CALSCALE:GREGORIAN
METHOD:PUBLISH
X-WR-CALNAME:Patriot Guard Riders
X-ORIGINAL-URL:https://www.patriotguard.org
X-WR-CALDESC:Events for Patriot Guard Riders
BEGIN:VTIMEZONE
TZID:America/New_York
BEGIN:DAYLIGHT
TZOFFSETFROM:-0500
TZOFFSETTO:-0400
TZNAME:EDT
DTSTART:20190310T070000
END:DAYLIGHT
BEGIN:STANDARD
TZOFFSETFROM:-0400
TZOFFSETTO:-0500
TZNAME:EST
DTSTART:20191103T060000
END:STANDARD
END:VTIMEZONE
BEGIN:VEVENT
DTSTART;VALUE=DATE:20190614
DTEND;VALUE=DATE:20190615
DTSTAMP:20210405T075819
CREATED:20190611T113550Z
LAST-MODIFIED:20190611T114047Z
UID:164182-1560470400-1560556799@www.patriotguard.org
SUMMARY:Howard Leland Barkley
DESCRIPTION:Honor Mission\nHoward Leland Barkley\, Veteran\nUSCG – WWII\nForest Grove\, Oregon – 06-14-19\n\n\n\nABOUT THE MISSION: \nLadies and Gentlemen of the Patriot Guard Riders\, we have been invited to stand for Howard Leland Barkley\, age 95. Howard served in the US Coast Guard from 14 May 1943 to 21 September 1945. He was Honorably Discharged at the rate of Ships Cook 3rd Class (E4). He earned the American Area Campaign Medal\, the Asiatic Pacific Area Campaign Medal and the Philippine Liberation Medal w/1 bronze service star. Please join us as we pay our respects and honor his service to our nation.\n\n\nPRIMARY STAGING DETAILS: 06-14-19 \nStaging Time: 09:00 AM\n \nForest View Cemetery\n1161 SW Pacific Ave\nForest Grove\, Oregon 97116\nMap\n\n\nRide Captain: \nEd Anderson\nandersoned@hotmail.com\n\n\nSpecial Instructions: \nBriefing: 9:20 am\nFlagline Set: 9:30 am\nService Begins: 10:00 am\nThere will be a short RHG from the Middle School next door to the gravesite. RHG members have been contacted.\nRHG KSU from School at 9:45 am.\n\n\nFlags & Water:\nFlags will not be provided\nIf you have large bike flags\, please bring them. \nWater will NOT be provided\, please bring your own.\n\n\n\nSubmitted By: John Hanan II \nPosition: Oregon State Captain \n\nNote: You do not have to own/ride a motorcycle or be a veteran to join\, and membership is Free. The only requirement is RESPECT! To subscribe to receive mission notices\, log into the National Site and click on the Members tab at the top. Select the Subscribe to PGR Missions option.\n Print This Page
URL:https://www.patriotguard.org/mission/howard-leland-barkley/
CATEGORIES:Honor Mission
END:VEVENT
END:VCALENDAR