BEGIN:VCALENDAR
VERSION:2.0
PRODID:-//Patriot Guard Riders - ECPv5.6.0//NONSGML v1.0//EN
CALSCALE:GREGORIAN
METHOD:PUBLISH
X-WR-CALNAME:Patriot Guard Riders
X-ORIGINAL-URL:https://www.patriotguard.org
X-WR-CALDESC:Events for Patriot Guard Riders
BEGIN:VTIMEZONE
TZID:America/New_York
BEGIN:DAYLIGHT
TZOFFSETFROM:-0500
TZOFFSETTO:-0400
TZNAME:EDT
DTSTART:20210314T070000
END:DAYLIGHT
BEGIN:STANDARD
TZOFFSETFROM:-0400
TZOFFSETTO:-0500
TZNAME:EST
DTSTART:20211107T060000
END:STANDARD
END:VTIMEZONE
BEGIN:VEVENT
DTSTART;VALUE=DATE:20210515
DTEND;VALUE=DATE:20210516
DTSTAMP:20210513T210415
CREATED:20210512T015557Z
LAST-MODIFIED:20210512T015557Z
UID:576990-1621036800-1621123199@www.patriotguard.org
SUMMARY:Howard L. Rutter
DESCRIPTION:Honor Mission\nHoward L. Rutter\, Veteran\nUSN\, USAR – Vietnam\nClovis\, New Mexico – 05-15-21\n\n\n\nABOUT THE MISSION: \nHoward grew up in Arkansas City\, Kansas and moved to Tucumcari\, NM in 1958 where he eventually enlisted in the Army Reserves for a short time; then served 11 years in the Navy including three tours in Vietnam. After 13 years honorable of service to our country\, Howard moved to Albuquerque where he attended TVI to complete his certification in Auto mechanics.\n\n\nPRIMARY STAGING DETAILS: 05-15-21 \nStaging Time: 8:15am \nLowe’s parking lot NW corner by McDonalds\n3601 N Prince St\nClovis\, New Mexico 88101\n\n\nRide Captain: \nDennis “Red Horse” Chalker\nredhorsepgr@yahoo.com; 575-799-4030\n\n\nSpecial Instructions: \n8:25am Briefing\, discuss route to Tucumcari and family escort\n8:30am KSU\n10:00am Arrive at Tucumcari Cemetery: 4161 Quay Rd 63\n10:45am Escort family from First Baptist Church: 321 E Center St. to the cemetery (about 2 miles)\nIf you would like to fly a large bike flag during the escort\, please do so.\n\n\nFlags & Water:\nFlags will be provided\nIf you have large bike flags\, please bring them.\nWater will be provided.\n\n\n\nSubmitted By: Dennis Chalker \nPosition: New Mexico Assistant State Captain \n\nNote: You do not have to own/ride a motorcycle or be a veteran to join\, and membership is Free. The only requirement is RESPECT! To subscribe to receive mission notices\, log into the National Site and click on the Members tab at the top. Select the Subscribe to PGR Missions option.\n Print This Page
URL:https://www.patriotguard.org/mission/howard-l-rutter/
CATEGORIES:Honor Mission
END:VEVENT
END:VCALENDAR