BEGIN:VCALENDAR
VERSION:2.0
PRODID:-//Patriot Guard Riders - ECPv5.3.2.1//NONSGML v1.0//EN
CALSCALE:GREGORIAN
METHOD:PUBLISH
X-WR-CALNAME:Patriot Guard Riders
X-ORIGINAL-URL:https://www.patriotguard.org
X-WR-CALDESC:Events for Patriot Guard Riders
BEGIN:VTIMEZONE
TZID:America/New_York
BEGIN:DAYLIGHT
TZOFFSETFROM:-0500
TZOFFSETTO:-0400
TZNAME:EDT
DTSTART:20190310T070000
END:DAYLIGHT
BEGIN:STANDARD
TZOFFSETFROM:-0400
TZOFFSETTO:-0500
TZNAME:EST
DTSTART:20191103T060000
END:STANDARD
END:VTIMEZONE
BEGIN:VEVENT
DTSTART;VALUE=DATE:20190604
DTEND;VALUE=DATE:20190605
DTSTAMP:20210405T015736
CREATED:20190603T010954Z
LAST-MODIFIED:20190603T010954Z
UID:163429-1559606400-1559692799@www.patriotguard.org
SUMMARY:Howard E. Canfield Sr
DESCRIPTION:Honor Mission\nHoward E. Canfield Sr.\, Veteran\nUSA –\nWest Salem\, Ohio – 06-04-19\n\n\n\nABOUT THE MISSION: \nSP4 Howard E. Canfield Sr.\, 66\, Sullivan\, Ohio. United States Army\, Vietnam Era Veteran.\nObituary\n\n\nPRIMARY STAGING DETAILS: 06-04-19 \nStaging Time: 10:00 AM\n \nMatteson Funeral Home\n40 Congress Rd.\nWest Salem\, Ohio 44287\n\n\nRide Captain: \nGary Knight\ngillkiki@neo.rr.com\n\n\nSpecial Instructions: \n\n\nFlags & Water:\nFlags will not be provided\nIf you have large bike flags\, please bring them.\nWater WILL NOT be provided\, please bring your own.\n\n\n\nSubmitted By: Patrick O’Connor \nPosition: Ohio Assistant State Captain \n\nNote: You do not have to own/ride a motorcycle or be a veteran to join\, and membership is Free. The only requirement is RESPECT! To subscribe to receive mission notices\, log into the National Site and click on the Members tab at the top. Select the Subscribe to PGR Missions option.\n Print This Page
URL:https://www.patriotguard.org/mission/howard-e-canfield-sr/
CATEGORIES:Honor Mission
END:VEVENT
END:VCALENDAR