BEGIN:VCALENDAR
VERSION:2.0
PRODID:-//Patriot Guard Riders - ECPv5.6.0//NONSGML v1.0//EN
CALSCALE:GREGORIAN
METHOD:PUBLISH
X-WR-CALNAME:Patriot Guard Riders
X-ORIGINAL-URL:https://www.patriotguard.org
X-WR-CALDESC:Events for Patriot Guard Riders
BEGIN:VTIMEZONE
TZID:America/New_York
BEGIN:DAYLIGHT
TZOFFSETFROM:-0500
TZOFFSETTO:-0400
TZNAME:EDT
DTSTART:20160313T070000
END:DAYLIGHT
BEGIN:STANDARD
TZOFFSETFROM:-0400
TZOFFSETTO:-0500
TZNAME:EST
DTSTART:20161106T060000
END:STANDARD
END:VTIMEZONE
BEGIN:VEVENT
DTSTART;TZID=America/New_York:20160601T090000
DTEND;TZID=America/New_York:20160601T110000
DTSTAMP:20210513T151252
CREATED:20160601T130000Z
LAST-MODIFIED:20191201T145534Z
UID:411694-1464771600-1464778800@www.patriotguard.org
SUMMARY:Howard Dixon
DESCRIPTION:Howard Dixon\nUSMC Veteran\nHenderson\, KY\n1 June 2016\n\n\n\nThe Patriot Guard has been asked by the family of former Marine Howard {Howie} Stephen Dixon 62  of Henderson\, KY.  To stand in his honor at his memorial and we are proud to do so. \nServices for Mr. Dixon will be Wednesday June 1st at 10.a.m. with services to follow at 12 p.m. at Benton-Glunt Funeral Home 629 S. Green Street \, Henderson\, KY  42420 \nStaging will be at Pockets Shell\, Paris Rd\, Mayfield\, Ky at 7:15 a.m. kickstands up at 7:30 a.m. or meet at the funeral home at 9:30 a.m. \nRandie Baldree\nSenior Ride Captain\nPGR/BOD\n270-705-2354
URL:https://www.patriotguard.org/mission/howard-dixon/
CATEGORIES:Archive
END:VEVENT
END:VCALENDAR